Workbook

Sheet Vorrunde
A3: SPIELPLAN - Vorrunde
A4: Spielzeit: 1x15min + 5 min Wechselzeit zw. den Spielen
A6: =Text!B87 -> Spiel | B6: =Text!B88 -> Datum | C6: Uhrzeit | D6: Platz
A7: =Text!B2 -> GRUPPE A
A8: 1 | B8: Tag 1 | C8: 0.41666667 | D8: 1 | E8: =Text!B3 -> TSV 1946 Bayerbach/Österreich | F8: : | G8: =Text!B4 -> TSV Langquaid/Australien | H8: 0 | I8: : | J8: 0 | L8: =(Berechnung!AD10=Text!B$73) -> FALSE | M8: =Text!A2 -> A | N8: =Text!A$64 -> Sp. | O8: =Text!A$65 -> Pkte. | P8: =Text!A$69 -> Tore | S8: =Text!A$68 -> Diff.
A9: 2 | B9: Tag 1 | C9: 0.44444444 | D9: 3 | E9: =Text!B5 -> FC Bonbruck/Bodenkirchen/Saudi-Arabien | F9: : | G9: =Text!B6 -> SG Weihmichl/Neuhausen/Senegal | H9: 1 | I9: : | J9: 0 | K9: =IF(L8,L9,1) -> 1 | L9: 1 | M9: =INDEX(Berechnung!V6:AA9,MATCH(K9,Berechnung!AD6:AD9,0),1) -> TSV 1946 Bayerbach/Österreich | N9: =INDEX(Berechnung!V6:AA9,MATCH(K9,Berechnung!AD6:AD9,0),2) -> 3 | O9: =INDEX(Berechnung!V6:AA9,MATCH(K9,Berechnung!AD6:AD9,0),3) -> 7 | P9: =INDEX(Berechnung!V6:AA9,MATCH(K9,Berechnung!AD6:AD9,0),4) -> 4 | Q9: : | R9: =INDEX(Berechnung!V6:AA9,MATCH(K9,Berechnung!AD6:AD9,0),5) -> 0 | S9: =INDEX(Berechnung!V6:AA9,MATCH(K9,Berechnung!AD6:AD9,0),6) -> 4
A10: 17 | B10: Tag 1 | C10: 0.48611111 | D10: 2 | E10: =Text!B3 -> TSV 1946 Bayerbach/Österreich | F10: : | G10: =Text!B5 -> FC Bonbruck/Bodenkirchen/Saudi-Arabien | H10: 2 | I10: : | J10: 0 | K10: =IF(L8,L10,2) -> 2 | L10: 2 | M10: =INDEX(Berechnung!V6:AA9,MATCH(K10,Berechnung!AD6:AD9,0),1) -> FC Bonbruck/Bodenkirchen/Saudi-Arabien | N10: =INDEX(Berechnung!V6:AA9,MATCH(K10,Berechnung!AD6:AD9,0),2) -> 3 | O10: =INDEX(Berechnung!V6:AA9,MATCH(K10,Berechnung!AD6:AD9,0),3) -> 6 | P10: =INDEX(Berechnung!V6:AA9,MATCH(K10,Berechnung!AD6:AD9,0),4) -> 3 | Q10: : | R10: =INDEX(Berechnung!V6:AA9,MATCH(K10,Berechnung!AD6:AD9,0),5) -> 3 | S10: =INDEX(Berechnung!V6:AA9,MATCH(K10,Berechnung!AD6:AD9,0),6) -> 0
A11: 18 | B11: Tag 1 | C11: 0.52777778 | D11: 1 | E11: =Text!B6 -> SG Weihmichl/Neuhausen/Senegal | F11: : | G11: =Text!B4 -> TSV Langquaid/Australien | H11: 1 | I11: : | J11: 5 | K11: =IF(L8,L11,3) -> 3 | L11: 3 | M11: =INDEX(Berechnung!V6:AA9,MATCH(K11,Berechnung!AD6:AD9,0),1) -> TSV Langquaid/Australien | N11: =INDEX(Berechnung!V6:AA9,MATCH(K11,Berechnung!AD6:AD9,0),2) -> 3 | O11: =INDEX(Berechnung!V6:AA9,MATCH(K11,Berechnung!AD6:AD9,0),3) -> 4 | P11: =INDEX(Berechnung!V6:AA9,MATCH(K11,Berechnung!AD6:AD9,0),4) -> 6 | Q11: : | R11: =INDEX(Berechnung!V6:AA9,MATCH(K11,Berechnung!AD6:AD9,0),5) -> 3 | S11: =INDEX(Berechnung!V6:AA9,MATCH(K11,Berechnung!AD6:AD9,0),6) -> 3
A12: 33 | B12: Tag 1 | C12: 0.55555556 | D12: 3 | E12: =Text!B6 -> SG Weihmichl/Neuhausen/Senegal | F12: : | G12: =Text!B3 -> TSV 1946 Bayerbach/Österreich | H12: 0 | I12: : | J12: 2 | K12: =IF(L8,L12,4) -> 4 | L12: =IF(AND(Berechnung!W10,Berechnung!AD10=Text!B$72),3,4) -> 4 | M12: =INDEX(Berechnung!V6:AA9,MATCH(K12,Berechnung!AD6:AD9,0),1) -> SG Weihmichl/Neuhausen/Senegal | N12: =INDEX(Berechnung!V6:AA9,MATCH(K12,Berechnung!AD6:AD9,0),2) -> 3 | O12: =INDEX(Berechnung!V6:AA9,MATCH(K12,Berechnung!AD6:AD9,0),3) -> 0 | P12: =INDEX(Berechnung!V6:AA9,MATCH(K12,Berechnung!AD6:AD9,0),4) -> 1 | Q12: : | R12: =INDEX(Berechnung!V6:AA9,MATCH(K12,Berechnung!AD6:AD9,0),5) -> 8 | S12: =INDEX(Berechnung!V6:AA9,MATCH(K12,Berechnung!AD6:AD9,0),6) -> -7
A13: 34 | B13: Tag 1 | C13: 0.56944444 | D13: 1 | E13: =Text!B4 -> TSV Langquaid/Australien | F13: : | G13: =Text!B5 -> FC Bonbruck/Bodenkirchen/Saudi-Arabien | H13: 1 | I13: : | J13: 2 | L13: =IF(L8,Text!B$74,"")
A15: =Text!B10 -> GRUPPE B
A16: 3 | B16: Tag 1 | C16: 0.41666667 | D16: 2 | E16: =Text!B11 -> TSV Kirchberg/Algerien | F16: : | G16: =Text!B12 -> TSV Rottenburg/Schottland | H16: 0 | I16: : | J16: 3 | L16: =(Berechnung!AD18=Text!B$73) -> FALSE | M16: =Text!A10 -> B | N16: =Text!A$64 -> Sp. | O16: =Text!A$65 -> Pkte. | P16: =Text!A$69 -> Tore | S16: =Text!A$68 -> Diff.
A17: 4 | B17: Tag 1 | C17: 0.45833333 | D17: 1 | E17: =Text!B13 -> SV Gündlkofen/Südafrika | F17: : | G17: =Text!B14 -> TSV Pfaffenberg/Spanien | H17: 0 | I17: : | J17: 2 | K17: =IF(L16,L17,1) -> 1 | L17: 1 | M17: =INDEX(Berechnung!V14:AA17,MATCH(K17,Berechnung!AD14:AD17,0),1) -> TSV Rottenburg/Schottland | N17: =INDEX(Berechnung!V14:AA17,MATCH(K17,Berechnung!AD14:AD17,0),2) -> 3 | O17: =INDEX(Berechnung!V14:AA17,MATCH(K17,Berechnung!AD14:AD17,0),3) -> 7 | P17: =INDEX(Berechnung!V14:AA17,MATCH(K17,Berechnung!AD14:AD17,0),4) -> 5 | Q17: : | R17: =INDEX(Berechnung!V14:AA17,MATCH(K17,Berechnung!AD14:AD17,0),5) -> 0 | S17: =INDEX(Berechnung!V14:AA17,MATCH(K17,Berechnung!AD14:AD17,0),6) -> 5
A18: 19 | B18: Tag 1 | C18: 0.48611111 | D18: 3 | E18: =Text!B11 -> TSV Kirchberg/Algerien | F18: : | G18: =Text!B13 -> SV Gündlkofen/Südafrika | H18: 2 | I18: : | J18: 2 | K18: =IF(L16,L18,2) -> 2 | L18: 2 | M18: =INDEX(Berechnung!V14:AA17,MATCH(K18,Berechnung!AD14:AD17,0),1) -> TSV Pfaffenberg/Spanien | N18: =INDEX(Berechnung!V14:AA17,MATCH(K18,Berechnung!AD14:AD17,0),2) -> 3 | O18: =INDEX(Berechnung!V14:AA17,MATCH(K18,Berechnung!AD14:AD17,0),3) -> 6 | P18: =INDEX(Berechnung!V14:AA17,MATCH(K18,Berechnung!AD14:AD17,0),4) -> 5 | Q18: : | R18: =INDEX(Berechnung!V14:AA17,MATCH(K18,Berechnung!AD14:AD17,0),5) -> 3 | S18: =INDEX(Berechnung!V14:AA17,MATCH(K18,Berechnung!AD14:AD17,0),6) -> 2
A19: 20 | B19: Tag 1 | C19: 0.52777778 | D19: 2 | E19: =Text!B14 -> TSV Pfaffenberg/Spanien | F19: : | G19: =Text!B12 -> TSV Rottenburg/Schottland | H19: 0 | I19: : | J19: 2 | K19: =IF(L16,L19,3) -> 3 | L19: 3 | M19: =INDEX(Berechnung!V14:AA17,MATCH(K19,Berechnung!AD14:AD17,0),1) -> SV Gündlkofen/Südafrika | N19: =INDEX(Berechnung!V14:AA17,MATCH(K19,Berechnung!AD14:AD17,0),2) -> 3 | O19: =INDEX(Berechnung!V14:AA17,MATCH(K19,Berechnung!AD14:AD17,0),3) -> 2 | P19: =INDEX(Berechnung!V14:AA17,MATCH(K19,Berechnung!AD14:AD17,0),4) -> 2 | Q19: : | R19: =INDEX(Berechnung!V14:AA17,MATCH(K19,Berechnung!AD14:AD17,0),5) -> 4 | S19: =INDEX(Berechnung!V14:AA17,MATCH(K19,Berechnung!AD14:AD17,0),6) -> -2
A20: 35 | B20: Tag 1 | C20: 0.56944444 | D20: 2 | E20: =Text!B14 -> TSV Pfaffenberg/Spanien | F20: : | G20: =Text!B11 -> TSV Kirchberg/Algerien | H20: 3 | I20: : | J20: 1 | K20: =IF(L16,L20,4) -> 4 | L20: 4 | M20: =INDEX(Berechnung!V14:AA17,MATCH(K20,Berechnung!AD14:AD17,0),1) -> TSV Kirchberg/Algerien | N20: =INDEX(Berechnung!V14:AA17,MATCH(K20,Berechnung!AD14:AD17,0),2) -> 3 | O20: =INDEX(Berechnung!V14:AA17,MATCH(K20,Berechnung!AD14:AD17,0),3) -> 1 | P20: =INDEX(Berechnung!V14:AA17,MATCH(K20,Berechnung!AD14:AD17,0),4) -> 3 | Q20: : | R20: =INDEX(Berechnung!V14:AA17,MATCH(K20,Berechnung!AD14:AD17,0),5) -> 8 | S20: =INDEX(Berechnung!V14:AA17,MATCH(K20,Berechnung!AD14:AD17,0),6) -> -5
A21: 36 | B21: Tag 1 | C21: 0.56944444 | D21: 3 | E21: =Text!B12 -> TSV Rottenburg/Schottland | F21: : | G21: =Text!B13 -> SV Gündlkofen/Südafrika | H21: 0 | I21: : | J21: 0 | L21: =IF(L16,Text!B$74,"")
A23: =Text!B18 -> GRUPPE C
A24: 5 | B24: Tag 1 | C24: 0.41666667 | D24: 3 | E24: =Text!B19 -> SC Buch am Erlbach/Kroatien | F24: : | G24: =Text!B20 -> TSV Vilslern/Norwegen | H24: 6 | I24: : | J24: 0 | L24: =(Berechnung!AD26=Text!B$73) -> FALSE | M24: =Text!A18 -> C | N24: =Text!A$64 -> Sp. | O24: =Text!A$65 -> Pkte. | P24: =Text!A$69 -> Tore | S24: =Text!A$68 -> Diff.
A25: 6 | B25: Tag 1 | C25: 0.45833333 | D25: 2 | E25: =Text!B21 -> SG Aham/Gerzen/Portugal | F25: : | G25: =Text!B22 -> SC Pfettrach/Japan | H25: 4 | I25: : | J25: 0 | K25: =IF(L24,L25,1) -> 1 | L25: 1 | M25: =INDEX(Berechnung!V22:AA25,MATCH(K25,Berechnung!AD22:AD25,0),1) -> SC Buch am Erlbach/Kroatien | N25: =INDEX(Berechnung!V22:AA25,MATCH(K25,Berechnung!AD22:AD25,0),2) -> 3 | O25: =INDEX(Berechnung!V22:AA25,MATCH(K25,Berechnung!AD22:AD25,0),3) -> 9 | P25: =INDEX(Berechnung!V22:AA25,MATCH(K25,Berechnung!AD22:AD25,0),4) -> 9 | Q25: : | R25: =INDEX(Berechnung!V22:AA25,MATCH(K25,Berechnung!AD22:AD25,0),5) -> 0 | S25: =INDEX(Berechnung!V22:AA25,MATCH(K25,Berechnung!AD22:AD25,0),6) -> 9
A26: 21 | B26: Tag 1 | C26: 0.5 | D26: 1 | E26: =Text!B19 -> SC Buch am Erlbach/Kroatien | F26: : | G26: =Text!B21 -> SG Aham/Gerzen/Portugal | H26: 1 | I26: : | J26: 0 | K26: =IF(L24,L26,2) -> 2 | L26: 2 | M26: =INDEX(Berechnung!V22:AA25,MATCH(K26,Berechnung!AD22:AD25,0),1) -> SG Aham/Gerzen/Portugal | N26: =INDEX(Berechnung!V22:AA25,MATCH(K26,Berechnung!AD22:AD25,0),2) -> 3 | O26: =INDEX(Berechnung!V22:AA25,MATCH(K26,Berechnung!AD22:AD25,0),3) -> 6 | P26: =INDEX(Berechnung!V22:AA25,MATCH(K26,Berechnung!AD22:AD25,0),4) -> 6 | Q26: : | R26: =INDEX(Berechnung!V22:AA25,MATCH(K26,Berechnung!AD22:AD25,0),5) -> 1 | S26: =INDEX(Berechnung!V22:AA25,MATCH(K26,Berechnung!AD22:AD25,0),6) -> 5
A27: 22 | B27: Tag 1 | C27: 0.52777778 | D27: 3 | E27: =Text!B22 -> SC Pfettrach/Japan | F27: : | G27: =Text!B20 -> TSV Vilslern/Norwegen | H27: 1 | I27: : | J27: 1 | K27: =IF(L24,L27,3) -> 3 | L27: 3 | M27: =INDEX(Berechnung!V22:AA25,MATCH(K27,Berechnung!AD22:AD25,0),1) -> SC Pfettrach/Japan | N27: =INDEX(Berechnung!V22:AA25,MATCH(K27,Berechnung!AD22:AD25,0),2) -> 3 | O27: =INDEX(Berechnung!V22:AA25,MATCH(K27,Berechnung!AD22:AD25,0),3) -> 1 | P27: =INDEX(Berechnung!V22:AA25,MATCH(K27,Berechnung!AD22:AD25,0),4) -> 1 | Q27: : | R27: =INDEX(Berechnung!V22:AA25,MATCH(K27,Berechnung!AD22:AD25,0),5) -> 7 | S27: =INDEX(Berechnung!V22:AA25,MATCH(K27,Berechnung!AD22:AD25,0),6) -> -6
A28: 37 | B28: Tag 1 | C28: 0.58333333 | D28: 1 | E28: =Text!B22 -> SC Pfettrach/Japan | F28: : | G28: =Text!B19 -> SC Buch am Erlbach/Kroatien | H28: 0 | I28: : | J28: 2 | K28: =IF(L24,L28,4) -> 4 | L28: =IF(AND(Berechnung!W26,Berechnung!AD26=Text!B$72),3,4) -> 4 | M28: =INDEX(Berechnung!V22:AA25,MATCH(K28,Berechnung!AD22:AD25,0),1) -> TSV Vilslern/Norwegen | N28: =INDEX(Berechnung!V22:AA25,MATCH(K28,Berechnung!AD22:AD25,0),2) -> 3 | O28: =INDEX(Berechnung!V22:AA25,MATCH(K28,Berechnung!AD22:AD25,0),3) -> 1 | P28: =INDEX(Berechnung!V22:AA25,MATCH(K28,Berechnung!AD22:AD25,0),4) -> 1 | Q28: : | R28: =INDEX(Berechnung!V22:AA25,MATCH(K28,Berechnung!AD22:AD25,0),5) -> 9 | S28: =INDEX(Berechnung!V22:AA25,MATCH(K28,Berechnung!AD22:AD25,0),6) -> -8
A29: 38 | B29: Tag 1 | C29: 0.58333333 | D29: 2 | E29: =Text!B20 -> TSV Vilslern/Norwegen | F29: : | G29: =Text!B21 -> SG Aham/Gerzen/Portugal | H29: 0 | I29: : | J29: 2 | L29: =IF(L24,Text!B$74,"")
A31: =Text!B26 -> GRUPPE D
A32: 7 | B32: Tag 1 | C32: 0.43055556 | D32: 1 | E32: =Text!B27 -> TSV Rohr/Südkorea | F32: : | G32: =Text!B28 -> TSV Vilsbiburg/Mexiko | H32: 1 | I32: : | J32: 4 | L32: =(Berechnung!AD34=Text!B$73) -> FALSE | M32: =Text!A26 -> D | N32: =Text!A$64 -> Sp. | O32: =Text!A$65 -> Pkte. | P32: =Text!A$69 -> Tore | S32: =Text!A$68 -> Diff.
A33: 8 | B33: Tag 1 | C33: 0.45833333 | D33: 3 | E33: =Text!B29 -> SSV 1983 Weng/Elfenbeinküste | F33: : | G33: =Text!B30 -> SG Mallersdorf/Grafentraubach/Niederlande | H33: 0 | I33: : | J33: 1 | K33: =IF(L32,L33,1) -> 1 | L33: 1 | M33: =INDEX(Berechnung!V30:AA33,MATCH(K33,Berechnung!AD30:AD33,0),1) -> SG Mallersdorf/Grafentraubach/Niederlande | N33: =INDEX(Berechnung!V30:AA33,MATCH(K33,Berechnung!AD30:AD33,0),2) -> 3 | O33: =INDEX(Berechnung!V30:AA33,MATCH(K33,Berechnung!AD30:AD33,0),3) -> 9 | P33: =INDEX(Berechnung!V30:AA33,MATCH(K33,Berechnung!AD30:AD33,0),4) -> 5 | Q33: : | R33: =INDEX(Berechnung!V30:AA33,MATCH(K33,Berechnung!AD30:AD33,0),5) -> 1 | S33: =INDEX(Berechnung!V30:AA33,MATCH(K33,Berechnung!AD30:AD33,0),6) -> 4
A34: 23 | B34: Tag 1 | C34: 0.5 | D34: 2 | E34: =Text!B27 -> TSV Rohr/Südkorea | F34: : | G34: =Text!B29 -> SSV 1983 Weng/Elfenbeinküste | H34: 0 | I34: : | J34: 2 | K34: =IF(L32,L34,2) -> 2 | L34: 2 | M34: =INDEX(Berechnung!V30:AA33,MATCH(K34,Berechnung!AD30:AD33,0),1) -> TSV Vilsbiburg/Mexiko | N34: =INDEX(Berechnung!V30:AA33,MATCH(K34,Berechnung!AD30:AD33,0),2) -> 3 | O34: =INDEX(Berechnung!V30:AA33,MATCH(K34,Berechnung!AD30:AD33,0),3) -> 6 | P34: =INDEX(Berechnung!V30:AA33,MATCH(K34,Berechnung!AD30:AD33,0),4) -> 7 | Q34: : | R34: =INDEX(Berechnung!V30:AA33,MATCH(K34,Berechnung!AD30:AD33,0),5) -> 5 | S34: =INDEX(Berechnung!V30:AA33,MATCH(K34,Berechnung!AD30:AD33,0),6) -> 2
A35: 24 | B35: Tag 1 | C35: 0.54166667 | D35: 1 | E35: =Text!B30 -> SG Mallersdorf/Grafentraubach/Niederlande | F35: : | G35: =Text!B28 -> TSV Vilsbiburg/Mexiko | H35: 3 | I35: : | J35: 1 | K35: =IF(L32,L35,3) -> 3 | L35: 3 | M35: =INDEX(Berechnung!V30:AA33,MATCH(K35,Berechnung!AD30:AD33,0),1) -> SSV 1983 Weng/Elfenbeinküste | N35: =INDEX(Berechnung!V30:AA33,MATCH(K35,Berechnung!AD30:AD33,0),2) -> 3 | O35: =INDEX(Berechnung!V30:AA33,MATCH(K35,Berechnung!AD30:AD33,0),3) -> 3 | P35: =INDEX(Berechnung!V30:AA33,MATCH(K35,Berechnung!AD30:AD33,0),4) -> 3 | Q35: : | R35: =INDEX(Berechnung!V30:AA33,MATCH(K35,Berechnung!AD30:AD33,0),5) -> 3 | S35: =INDEX(Berechnung!V30:AA33,MATCH(K35,Berechnung!AD30:AD33,0),6) -> 0
A36: 39 | B36: Tag 1 | C36: 0.58333333 | D36: 3 | E36: =Text!B30 -> SG Mallersdorf/Grafentraubach/Niederlande | F36: : | G36: =Text!B27 -> TSV Rohr/Südkorea | H36: 1 | I36: : | J36: 0 | K36: =IF(L32,L36,4) -> 4 | L36: =IF(AND(Berechnung!W34,Berechnung!AD34=Text!B$72),3,4) -> 4 | M36: =INDEX(Berechnung!V30:AA33,MATCH(K36,Berechnung!AD30:AD33,0),1) -> TSV Rohr/Südkorea | N36: =INDEX(Berechnung!V30:AA33,MATCH(K36,Berechnung!AD30:AD33,0),2) -> 3 | O36: =INDEX(Berechnung!V30:AA33,MATCH(K36,Berechnung!AD30:AD33,0),3) -> 0 | P36: =INDEX(Berechnung!V30:AA33,MATCH(K36,Berechnung!AD30:AD33,0),4) -> 1 | Q36: : | R36: =INDEX(Berechnung!V30:AA33,MATCH(K36,Berechnung!AD30:AD33,0),5) -> 7 | S36: =INDEX(Berechnung!V30:AA33,MATCH(K36,Berechnung!AD30:AD33,0),6) -> -6
A37: 40 | B37: Tag 1 | C37: 0.59722222 | D37: 1 | E37: =Text!B28 -> TSV Vilsbiburg/Mexiko | F37: : | G37: =Text!B29 -> SSV 1983 Weng/Elfenbeinküste | H37: 2 | I37: : | J37: 1 | L37: =IF(L32,Text!B$74,"")
A39: =Text!B34 -> GRUPPE E
A40: 9 | B40: Tag 1 | C40: 0.43055556 | D40: 2 | E40: =Text!B35 -> SV Wörth/Frankreich | F40: : | G40: =Text!B36 -> SV Kumhausen/Marokko | H40: 6 | I40: : | J40: 1 | L40: =(Berechnung!AD42=Text!B$73) -> FALSE | M40: =Text!A34 -> E | N40: =Text!A$64 -> Sp. | O40: =Text!A$65 -> Pkte. | P40: =Text!A$69 -> Tore | S40: =Text!A$68 -> Diff.
A41: 10 | B41: Tag 1 | C41: 0.47222222 | D41: 1 | E41: =Text!B37 -> SpVgg Landshut/Kanada | F41: : | G41: =Text!B38 -> ETSV 09 Landshut/Belgien | H41: 10 | I41: : | J41: 0 | K41: =IF(L40,L41,1) -> 1 | L41: 1 | M41: =INDEX(Berechnung!V38:AA41,MATCH(K41,Berechnung!AD38:AD41,0),1) -> SpVgg Landshut/Kanada | N41: =INDEX(Berechnung!V38:AA41,MATCH(K41,Berechnung!AD38:AD41,0),2) -> 3 | O41: =INDEX(Berechnung!V38:AA41,MATCH(K41,Berechnung!AD38:AD41,0),3) -> 9 | P41: =INDEX(Berechnung!V38:AA41,MATCH(K41,Berechnung!AD38:AD41,0),4) -> 15 | Q41: : | R41: =INDEX(Berechnung!V38:AA41,MATCH(K41,Berechnung!AD38:AD41,0),5) -> 2 | S41: =INDEX(Berechnung!V38:AA41,MATCH(K41,Berechnung!AD38:AD41,0),6) -> 13
A42: 25 | B42: Tag 1 | C42: 0.5 | D42: 3 | E42: =Text!B35 -> SV Wörth/Frankreich | F42: : | G42: =Text!B37 -> SpVgg Landshut/Kanada | H42: 1 | I42: : | J42: 2 | K42: =IF(L40,L42,2) -> 2 | L42: 2 | M42: =INDEX(Berechnung!V38:AA41,MATCH(K42,Berechnung!AD38:AD41,0),1) -> SV Wörth/Frankreich | N42: =INDEX(Berechnung!V38:AA41,MATCH(K42,Berechnung!AD38:AD41,0),2) -> 3 | O42: =INDEX(Berechnung!V38:AA41,MATCH(K42,Berechnung!AD38:AD41,0),3) -> 6 | P42: =INDEX(Berechnung!V38:AA41,MATCH(K42,Berechnung!AD38:AD41,0),4) -> 15 | Q42: : | R42: =INDEX(Berechnung!V38:AA41,MATCH(K42,Berechnung!AD38:AD41,0),5) -> 4 | S42: =INDEX(Berechnung!V38:AA41,MATCH(K42,Berechnung!AD38:AD41,0),6) -> 11
A43: 26 | B43: Tag 1 | C43: 0.54166667 | D43: 2 | E43: =Text!B38 -> ETSV 09 Landshut/Belgien | F43: : | G43: =Text!B36 -> SV Kumhausen/Marokko | H43: 1 | I43: : | J43: 4 | K43: =IF(L40,L43,3) -> 3 | L43: 3 | M43: =INDEX(Berechnung!V38:AA41,MATCH(K43,Berechnung!AD38:AD41,0),1) -> SV Kumhausen/Marokko | N43: =INDEX(Berechnung!V38:AA41,MATCH(K43,Berechnung!AD38:AD41,0),2) -> 3 | O43: =INDEX(Berechnung!V38:AA41,MATCH(K43,Berechnung!AD38:AD41,0),3) -> 3 | P43: =INDEX(Berechnung!V38:AA41,MATCH(K43,Berechnung!AD38:AD41,0),4) -> 6 | Q43: : | R43: =INDEX(Berechnung!V38:AA41,MATCH(K43,Berechnung!AD38:AD41,0),5) -> 10 | S43: =INDEX(Berechnung!V38:AA41,MATCH(K43,Berechnung!AD38:AD41,0),6) -> -4
A44: 41 | B44: Tag 1 | C44: 0.59722222 | D44: 2 | E44: =Text!B38 -> ETSV 09 Landshut/Belgien | F44: : | G44: =Text!B35 -> SV Wörth/Frankreich | H44: 1 | I44: : | J44: 8 | K44: =IF(L40,L44,4) -> 4 | L44: =IF(AND(Berechnung!W42,Berechnung!AD42=Text!B$72),3,4) -> 4 | M44: =INDEX(Berechnung!V38:AA41,MATCH(K44,Berechnung!AD38:AD41,0),1) -> ETSV 09 Landshut/Belgien | N44: =INDEX(Berechnung!V38:AA41,MATCH(K44,Berechnung!AD38:AD41,0),2) -> 3 | O44: =INDEX(Berechnung!V38:AA41,MATCH(K44,Berechnung!AD38:AD41,0),3) -> 0 | P44: =INDEX(Berechnung!V38:AA41,MATCH(K44,Berechnung!AD38:AD41,0),4) -> 2 | Q44: : | R44: =INDEX(Berechnung!V38:AA41,MATCH(K44,Berechnung!AD38:AD41,0),5) -> 22 | S44: =INDEX(Berechnung!V38:AA41,MATCH(K44,Berechnung!AD38:AD41,0),6) -> -20
A45: 42 | B45: Tag 1 | C45: 0.59722222 | D45: 3 | E45: =Text!B36 -> SV Kumhausen/Marokko | F45: : | G45: =Text!B37 -> SpVgg Landshut/Kanada | H45: 1 | I45: : | J45: 3 | L45: =IF(L40,Text!B$74,"")
A47: =Text!B42 -> GRUPPE F
A48: 11 | B48: Tag 1 | C48: 0.43055556 | D48: 3 | E48: =Text!B43 -> TSV Baierbach/England | F48: : | G48: =Text!B44 -> TSV Altfraunhofen/Curacao | H48: 0 | I48: : | J48: 1 | L48: =(Berechnung!AD50=Text!B$73) -> FALSE | M48: =Text!A42 -> F | N48: =Text!A$64 -> Sp. | O48: =Text!A$65 -> Pkte. | P48: =Text!A$69 -> Tore | S48: =Text!A$68 -> Diff.
...

Sheet Endrunde
A3: SPIELPLAN - Achtelfinale & Endrunde // (Platz 1 - 16) (4 Spiele je Team)
A4: Spielzeit: 1x15min + 5 min Wechselzeit zw. den Spielen Finale: Spielzeit 2x10min (5min Pause)
A6: =Text!B87 -> Spiel | B6: =Text!B88 -> Datum | C6: Uhrzeit | D6: Platz
A7: =Text!B78 -> ACHTELFINALE | J7: 15 min für 8-m eingeplant
A8: 81 | B8: Tag 1 | C8: 15:40 | D8: 1 | E8: =IF(Berechnung!W10,Vorrunde!M9,Text!B84 & " " & Text!B86 &" A") -> TSV 1946 Bayerbach/Österreich | F8: 3 | G8: : | H8: 5 | I8: =IF(Berechnung!W18,Vorrunde!M18,Text!B85 & " " & Text!B86 &" B") -> TSV Pfaffenberg/Spanien
A9: 82 | B9: Tag 1 | C9: 15:40 | D9: 2 | E9: =IF(Berechnung!W26,Vorrunde!M25,Text!B84 & " " & Text!B86 &" C") -> SC Buch am Erlbach/Kroatien | F9: 1 | G9: : | H9: 2 | I9: =IF(Berechnung!W34,Vorrunde!M34,Text!B85 & " " & Text!B86 &" D") -> TSV Vilsbiburg/Mexiko
A10: 83 | B10: Tag 1 | C10: 15:40 | D10: 3 | E10: =IF(Berechnung!W18,Vorrunde!M17,Text!B84 & " " & Text!B86 &" B") -> TSV Rottenburg/Schottland | F10: 2 | G10: : | H10: 0 | I10: =IF(Berechnung!W10,Vorrunde!M10,Text!B85 & " " & Text!B86 &" A") -> FC Bonbruck/Bodenkirchen/Saudi-Arabien
A11: 84 | B11: Tag 1 | C11: 16:20 | D11: 1 | E11: =IF(Berechnung!W34,Vorrunde!M33,Text!B84 & " " & Text!B86 &" D") -> SG Mallersdorf/Grafentraubach/Niederlande | F11: 4 | G11: : | H11: 1 | I11: =IF(Berechnung!W26,Vorrunde!M26,Text!B85 & " " & Text!B86 &" C") -> SG Aham/Gerzen/Portugal
A12: 85 | B12: Tag 1 | C12: 16:20 | D12: 2 | E12: =IF(Berechnung!W42,Vorrunde!M41,Text!B84 & " " & Text!B86 &" E") -> SpVgg Landshut/Kanada | F12: 5 | G12: : | H12: 0 | I12: =IF(Berechnung!W50,Vorrunde!M50,Text!B85 & " " & Text!B86 &" F") -> TSV Altfraunhofen/Curacao
A13: 86 | B13: Tag 1 | C13: 16:20 | D13: 3 | E13: =IF(Berechnung!W58,Vorrunde!M57,Text!B84 & " " & Text!B86 &" G") -> TSV Ergoldsbach/Neuseeland | F13: 2 | G13: : | H13: 3 | I13: =IF(Berechnung!W66,Vorrunde!M66,Text!B85 & " " & Text!B86 &" H") -> SV Oberglaim/Kolumbien
A14: 87 | B14: Tag 1 | C14: 16:40 | D14: 3 | E14: =IF(Berechnung!W50,Vorrunde!M49,Text!B84 & " " & Text!B86 &" F") -> TSV Landshut-Auloh/Argentinien | F14: 0 | G14: : | H14: 2 | I14: =IF(Berechnung!W42,Vorrunde!M42,Text!B85 & " " & Text!B86 &" E") -> SV Wörth/Frankreich
A15: 88 | B15: Tag 1 | C15: 17:00 | D15: 2 | E15: =IF(Berechnung!W66,Vorrunde!M65,Text!B84 & " " & Text!B86 &" H") -> VfR Laberweinting/USA | F15: 5 | G15: : | H15: 1 | I15: =IF(Berechnung!W58,Vorrunde!M58,Text!B85 & " " & Text!B86 &" G") -> DJK-SV Altdorf/Uruguay
A17: Entscheidungsspiele Platz 9 - 16 | J17: 10 min für 8-m eingeplant
A18: 89 | B18: Tag 2 | C18: 10:00 | D18: 3 | E18: =IF(F8>H8,I8,IF(F8<H8,E8,"Verlierer 81")) -> TSV 1946 Bayerbach/Österreich | F18: 4 | G18: : | H18: 2 | I18: =IF(F9>H9,I9,IF(F9<H9,E9,"Verlierer 82")) -> SC Buch am Erlbach/Kroatien
A19: 90 | B19: Tag 2 | C19: 10:20 | D19: 1 | E19: =IF(F12>H12,I12,IF(F12<H12,E12,"Verlierer 85")) -> TSV Altfraunhofen/Curacao | F19: 1 | G19: : | H19: 4 | I19: =IF(F13>H13,I13,IF(F13<H13,E13,"Verlierer 86")) -> TSV Ergoldsbach/Neuseeland
A20: 91 | B20: Tag 2 | C20: 10:20 | D20: 2 | E20: =IF(F14>H14,I14,IF(F14<H14,E14,"Verlierer 87")) -> TSV Landshut-Auloh/Argentinien | F20: 0 | G20: : | H20: 3 | I20: =IF(F15>H15,I15,IF(F15<H15,E15,"Verlierer 88")) -> DJK-SV Altdorf/Uruguay
A21: 92 | B21: Tag 2 | C21: 10:40 | D21: 2 | E21: =IF(F10>H10,I10,IF(F10<H10,E10,"Verlierer 83")) -> FC Bonbruck/Bodenkirchen/Saudi-Arabien | F21: 1 | G21: : | H21: 0 | I21: =IF(F11>H11,I11,IF(F11<H11,E11,"Verlierer 84")) -> SG Aham/Gerzen/Portugal
A23: Entscheidungsspiele Platz 13 - 16 | J23: 5 min für 8-m eingeplant
A24: 93 | B24: Tag 2 | C24: 11:00 | D24: 1 | E24: =IF($F18>$H18,$I18,IF($F18<$H18,$E18,"Verlierer 89")) -> SC Buch am Erlbach/Kroatien | F24: 2 | G24: : | H24: 0 | I24: =IF($F19>$H19,$I19,IF($F19<$H19,$E19,"Verlierer 90")) -> TSV Altfraunhofen/Curacao
A25: 94 | B25: Tag 2 | C25: 11:00 | D25: 2 | E25: =IF($F20>$H20,$I20,IF($F20<$H20,$E20,"Verlierer 91")) -> TSV Landshut-Auloh/Argentinien | F25: 1 | G25: : | H25: 0 | I25: =IF($F21>$H21,$I21,IF($F21<$H21,$E21,"Verlierer 92")) -> SG Aham/Gerzen/Portugal
A27: Platz 15 und 16 | J27: 5 min für 8-m eingeplant
A28: 95 | B28: Tag 2 | C28: 11:20 | D28: 3 | E28: =IF($F24>$H24,$I24,IF($F24<$H24,$E24,"Verlierer 93")) -> TSV Altfraunhofen/Curacao | F28: 0 | G28: : | H28: 2 | I28: =IF($F25>$H25,$I25,IF($F25<$H25,$E25,"Verlierer 94")) -> SG Aham/Gerzen/Portugal
A30: Platz 13 und 14 | J30: 5 min für 8-m eingeplant
A31: 96 | B31: Tag 2 | C31: 11:40 | D31: 1 | E31: =IF($F24<$H24,$I24,IF($F24>$H24,$E24,"Sieger 93")) -> SC Buch am Erlbach/Kroatien | F31: 4 | G31: : | H31: 0 | I31: =IF($F25<$H25,$I25,IF($F25>$H25,$E25,"Sieger 94")) -> TSV Landshut-Auloh/Argentinien
A33: Entscheidungsspiele Platz 9 - 12 | J33: 5 min für 8-m eingeplant
A34: 97 | B34: Tag 2 | C34: 11:40 | D34: 2 | E34: =IF($F18<$H18,$I18,IF($F18>$H18,$E18,"Sieger 89")) -> TSV 1946 Bayerbach/Österreich | F34: 0 | G34: : | H34: 1 | I34: =IF($F19<$H19,$I19,IF($F19>$H19,$E19,"Sieger 90")) -> TSV Ergoldsbach/Neuseeland
A35: 98 | B35: Tag 2 | C35: 11:40 | D35: 3 | E35: =IF($F20<$H20,$I20,IF($F20>$H20,$E20,"Sieger 91")) -> DJK-SV Altdorf/Uruguay | F35: 3 | G35: : | H35: 0 | I35: =IF($F21<$H21,$I21,IF($F21>$H21,$E21,"Sieger 92")) -> FC Bonbruck/Bodenkirchen/Saudi-Arabien
A37: Platz 11 und 12 | J37: 5 min für 8-m eingeplant
A38: 99 | B38: Tag 2 | C38: 12:00 | D38: 3 | E38: =IF($F34>$H34,$I34,IF($F34<$H34,$E34,"Verlierer 97")) -> TSV 1946 Bayerbach/Österreich | F38: 2 | G38: : | H38: 1 | I38: =IF($F35>$H35,$I35,IF($F35<$H35,$E35,"Verlierer 98")) -> FC Bonbruck/Bodenkirchen/Saudi-Arabien
A40: Platz 9 und 10 | J40: 5 min für 8-m eingeplant
A41: 100 | B41: Tag 2 | C41: 12:20 | D41: 1 | E41: =IF($F34<$H34,$I34,IF($F34>$H34,$E34,"Sieger 97")) -> TSV Ergoldsbach/Neuseeland | F41: 0 | G41: : | H41: 1 | I41: =IF($F35<$H35,$I35,IF($F35>$H35,$E35,"Sieger 98")) -> DJK-SV Altdorf/Uruguay
A43: =Text!B79 -> VIERTELFINALE | J43: 10 min für 8-m eingeplant
A44: 101 | B44: Tag 2 | C44: 12:40 | D44: 3 | E44: =IF(F8<H8,I8,IF(F8>H8,E8,"Sieger 81")) -> TSV Pfaffenberg/Spanien | F44: 0 | G44: : | H44: 3 | I44: =IF(F9<H9,I9,IF(F9>H9,E9,"Sieger 82")) -> TSV Vilsbiburg/Mexiko
A45: 102 | B45: Tag 2 | C45: 12:40 | D45: 2 | E45: =IF(F12<H12,I12,IF(F12>H12,E12,"Sieger 85")) -> SpVgg Landshut/Kanada | F45: 5 | G45: : | H45: 0 | I45: =IF(F13<H13,I13,IF(F13>H13,E13,"Sieger 86")) -> SV Oberglaim/Kolumbien
A46: 103 | B46: Tag 2 | C46: 13:00 | D46: 1 | E46: =IF(F14<H14,I14,IF(F14>H14,E14,"Sieger 87")) -> SV Wörth/Frankreich | F46: 2 | G46: : | H46: 4 | I46: =IF(F15<H15,I15,IF(F15>H15,E15,"Sieger 88")) -> VfR Laberweinting/USA
A47: 104 | B47: Tag 2 | C47: 13:20 | D47: 2 | E47: =IF(F10<H10,I10,IF(F10>H10,E10,"Sieger 83")) -> TSV Rottenburg/Schottland | F47: 1 | G47: : | H47: 2 | I47: =IF(F11<H11,I11,IF(F11>H11,E11,"Sieger 84")) -> SG Mallersdorf/Grafentraubach/Niederlande
A49: Entscheidungsspiele Platz 5 - 8 | J49: 5 min für 8-m eingeplant
A50: 105 | B50: Tag 2 | C50: 13:20 | D50: 3 | E50: =IF($F44>$H44,$I44,IF($F44<$H44,$E44,"Verlierer 101")) -> TSV Pfaffenberg/Spanien | F50: 3 | G50: : | H50: 4 | I50: =IF($F45>$H45,$I45,IF($F45<$H45,$E45,"Verlierer 102")) -> SV Oberglaim/Kolumbien
A51: 106 | B51: Tag 2 | C51: 13:40 | D51: 2 | E51: =IF($F46>$H46,$I46,IF($F46<$H46,$E46,"Verlierer 103")) -> SV Wörth/Frankreich | F51: 0 | G51: : | H51: 3 | I51: =IF($F47>$H47,$I47,IF($F47<$H47,$E47,"Verlierer 104")) -> TSV Rottenburg/Schottland
A53: Platz 7 und 8 | J53: 5 min für 8-m eingeplant
...

Sheet Trostrunde
A3: SPIELPLAN - Achtelfinale & Trostrunde // (Platz 17 - 32) (4 Spiele je Team)
A4: Spielzeit: 1x15min + 5 min Wechselzeit zw. den Spielen
A6: =Text!B87 -> Spiel | B6: =Text!B88 -> Datum | C6: Uhrzeit | D6: Platz
A7: =Text!B78 -> ACHTELFINALE | J7: 15 min für 8-m eingeplant
A8: 49 | B8: Tag 1 | C8: 15:20 | D8: 1 | E8: =IF(Berechnung!W10,Vorrunde!M11,Text!B102 & " " & Text!B86 &" A") -> TSV Langquaid/Australien | F8: 3 | G8: : | H8: 1 | I8: =IF(Berechnung!W18,Vorrunde!M20,Text!B103 & " " & Text!B86 &" B") -> TSV Kirchberg/Algerien
A9: 50 | B9: Tag 1 | C9: 15:20 | D9: 2 | E9: =IF(Berechnung!W26,Vorrunde!M27,Text!B102 & " " & Text!B86 &" C") -> SC Pfettrach/Japan | F9: 2 | G9: : | H9: 1 | I9: =IF(Berechnung!W34,Vorrunde!M36,Text!B103 & " " & Text!B86 &" D") -> TSV Rohr/Südkorea
A10: 51 | B10: Tag 1 | C10: 15:20 | D10: 3 | E10: =IF(Berechnung!W18,Vorrunde!M19,Text!B102 & " " & Text!B86 &" B") -> SV Gündlkofen/Südafrika | F10: 3 | G10: : | H10: 2 | I10: =IF(Berechnung!W10,Vorrunde!M12,Text!B103 & " " & Text!B86 &" A") -> SG Weihmichl/Neuhausen/Senegal
A11: 52 | B11: Tag 1 | C11: 16:00 | D11: 1 | E11: =IF(Berechnung!W34,Vorrunde!M35,Text!B102 & " " & Text!B86 &" D") -> SSV 1983 Weng/Elfenbeinküste | F11: 2 | G11: : | H11: 0 | I11: =IF(Berechnung!W26,Vorrunde!M28,Text!B103 & " " & Text!B86 &" C") -> TSV Vilslern/Norwegen
A12: 53 | B12: Tag 1 | C12: 16:00 | D12: 2 | E12: =IF(Berechnung!W42,Vorrunde!M43,Text!B102 & " " & Text!B86 &" E") -> SV Kumhausen/Marokko | F12: 1 | G12: : | H12: 2 | I12: =IF(Berechnung!W50,Vorrunde!M52,Text!B103 & " " & Text!B86 &" F") -> SV Sallach/Schweiz
A13: 54 | B13: Tag 1 | C13: 16:00 | D13: 3 | E13: =IF(Berechnung!W58,Vorrunde!M59,Text!B102 & " " & Text!B86 &" G") -> FC Ergolding/Brasilien | F13: 4 | G13: : | H13: 2 | I13: =IF(Berechnung!W66,Vorrunde!M68,Text!B103 & " " & Text!B86 &" H") -> SSV Pfeffenhausen/Deutschland
A14: 55 | B14: Tag 1 | C14: 16:40 | D14: 1 | E14: =IF(Berechnung!W50,Vorrunde!M51,Text!B102 & " " & Text!B86 &" F") -> TSV Baierbach/England | F14: 2 | G14: : | H14: 0 | I14: =IF(Berechnung!W42,Vorrunde!M44,Text!B103 & " " & Text!B86 &" E") -> ETSV 09 Landshut/Belgien
A15: 56 | B15: Tag 1 | C15: 16:40 | D15: 2 | E15: =IF(Berechnung!W66,Vorrunde!M67,Text!B102 & " " & Text!B86 &" H") -> SV Münchnerau/Ghana | F15: 3 | G15: : | H15: 1 | I15: =IF(Berechnung!W58,Vorrunde!M60,Text!B103 & " " & Text!B86 &" G") -> DJK SV Furth/Katar
A17: Entscheidungsspiele Platz 25 - 32 | J17: 10 min für 8-m eingeplant
A18: 57 | B18: Tag 2 | C18: 10:00 | D18: 1 | E18: =IF(F8>H8,I8,IF(F8<H8,E8,"Verlierer 49")) -> TSV Kirchberg/Algerien | F18: 5 | G18: : | H18: 1 | I18: =IF(F9>H9,I9,IF(F9<H9,E9,"Verlierer 50")) -> TSV Rohr/Südkorea
A19: 58 | B19: Tag 2 | C19: 10:00 | D19: 2 | E19: =IF(F12>H12,I12,IF(F12<H12,E12,"Verlierer 53")) -> SV Kumhausen/Marokko | F19: 1 | G19: : | H19: 3 | I19: =IF(F13>H13,I13,IF(F13<H13,E13,"Verlierer 54")) -> SSV Pfeffenhausen/Deutschland
A20: 59 | B20: Tag 2 | C20: 10:20 | D20: 3 | E20: =IF(F14>H14,I14,IF(F14<H14,E14,"Verlierer 55")) -> ETSV 09 Landshut/Belgien | F20: 0 | G20: : | H20: 6 | I20: =IF(F15>H15,I15,IF(F15<H15,E15,"Verlierer 56")) -> DJK SV Furth/Katar
A21: 60 | B21: Tag 2 | C21: 10:40 | D21: 1 | E21: =IF(F10>H10,I10,IF(F10<H10,E10,"Verlierer 51")) -> SG Weihmichl/Neuhausen/Senegal | F21: 3 | G21: : | H21: 0 | I21: =IF(F11>H11,I11,IF(F11<H11,E11,"Verlierer 52")) -> TSV Vilslern/Norwegen
A23: Entscheidungsspiele Platz 29 - 32 | J23: 5 min für 8-m eingeplant
A24: 61 | B24: Tag 2 | C24: 10:40 | D24: 3 | E24: =IF($F18>$H18,$I18,IF($F18<$H18,$E18,"Verlierer 57")) -> TSV Rohr/Südkorea | F24: 0 | G24: : | H24: 6 | I24: =IF($F19>$H19,$I19,IF($F19<$H19,$E19,"Verlierer 58")) -> SV Kumhausen/Marokko
A25: 62 | B25: Tag 2 | C25: 11:00 | D25: 3 | E25: =IF($F20>$H20,$I20,IF($F20<$H20,$E20,"Verlierer 59")) -> ETSV 09 Landshut/Belgien | F25: 0 | G25: : | H25: 1 | I25: =IF($F21>$H21,$I21,IF($F21<$H21,$E21,"Verlierer 60")) -> TSV Vilslern/Norwegen
A27: Platz 31 und 32 | J27: 5 min für 8-m eingeplant
A28: 63 | B28: Tag 2 | C28: 11:20 | D28: 1 | E28: =IF($F24>$H24,$I24,IF($F24<$H24,$E24,"Verlierer 61")) -> TSV Rohr/Südkorea | F28: 1 | G28: : | H28: 2 | I28: =IF($F25>$H25,$I25,IF($F25<$H25,$E25,"Verlierer 62")) -> ETSV 09 Landshut/Belgien
A30: Platz 29 und 30 | J30: 5 min für 8-m eingeplant
A31: 64 | B31: Tag 2 | C31: 11:20 | D31: 2 | E31: =IF($F24<$H24,$I24,IF($F24>$H24,$E24,"Sieger 61")) -> SV Kumhausen/Marokko | F31: 2 | G31: : | H31: 0 | I31: =IF($F25<$H25,$I25,IF($F25>$H25,$E25,"Sieger 62")) -> TSV Vilslern/Norwegen
A33: Entscheidungsspiele Platz 25 - 28 | J33: 5 min für 8-m eingeplant
A34: 65 | B34: Tag 2 | C34: 12:00 | D34: 1 | E34: =IF($F18<$H18,$I18,IF($F18>$H18,$E18,"Sieger 57")) -> TSV Kirchberg/Algerien | F34: 3 | G34: : | H34: 1 | I34: =IF($F19<$H19,$I19,IF($F19>$H19,$E19,"Sieger 58")) -> SSV Pfeffenhausen/Deutschland
A35: 66 | B35: Tag 2 | C35: 12:00 | D35: 2 | E35: =IF($F20<$H20,$I20,IF($F20>$H20,$E20,"Sieger 59")) -> DJK SV Furth/Katar | F35: 1 | G35: : | H35: 3 | I35: =IF($F21<$H21,$I21,IF($F21>$H21,$E21,"Sieger 60")) -> SG Weihmichl/Neuhausen/Senegal
A37: Platz 27 und 28 | J37: 5 min für 8-m eingeplant
A38: 67 | B38: Tag 2 | C38: 12:20 | D38: 2 | E38: =IF($F34>$H34,$I34,IF($F34<$H34,$E34,"Verlierer 65")) -> SSV Pfeffenhausen/Deutschland | F38: 2 | G38: : | H38: 3 | I38: =IF($F35>$H35,$I35,IF($F35<$H35,$E35,"Verlierer 66")) -> DJK SV Furth/Katar
A40: Platz 25 und 26 | J40: 5 min für 8-m eingeplant
A41: 68 | B41: Tag 2 | C41: 12:20 | D41: 3 | E41: =IF($F34<$H34,$I34,IF($F34>$H34,$E34,"Sieger 65")) -> TSV Kirchberg/Algerien | F41: 3 | G41: : | H41: 2 | I41: =IF($F35<$H35,$I35,IF($F35>$H35,$E35,"Sieger 66")) -> SG Weihmichl/Neuhausen/Senegal
A43: Viertelfinale Trostrunde | J43: 10 min für 8-m eingeplant
A44: 69 | B44: Tag 2 | C44: 12:40 | D44: 1 | E44: =IF(F8<H8,I8,IF(F8>H8,E8,"Sieger 49")) -> TSV Langquaid/Australien | F44: 1 | G44: : | H44: 0 | I44: =IF(F9<H9,I9,IF(F9>H9,E9,"Sieger 50")) -> SC Pfettrach/Japan
A45: 70 | B45: Tag 2 | C45: 13:00 | D45: 2 | E45: =IF(F12<H12,I12,IF(F12>H12,E12,"Sieger 53")) -> SV Sallach/Schweiz | F45: 0 | G45: : | H45: 5 | I45: =IF(F13<H13,I13,IF(F13>H13,E13,"Sieger 54")) -> FC Ergolding/Brasilien
A46: 71 | B46: Tag 2 | C46: 13:00 | D46: 3 | E46: =IF(F14<H14,I14,IF(F14>H14,E14,"Sieger 55")) -> TSV Baierbach/England | F46: 0 | G46: : | H46: 1 | I46: =IF(F15<H15,I15,IF(F15>H15,E15,"Sieger 56")) -> SV Münchnerau/Ghana
A47: 72 | B47: Tag 2 | C47: 13:20 | D47: 1 | E47: =IF(F10<H10,I10,IF(F10>H10,E10,"Sieger 51")) -> SV Gündlkofen/Südafrika | F47: 1 | G47: : | H47: 0 | I47: =IF(F11<H11,I11,IF(F11>H11,E11,"Sieger 52")) -> SSV 1983 Weng/Elfenbeinküste
A49: Entscheidungsspiele Platz 17 - 24 | J49: 5 min für 8-m eingeplant
A50: 73 | B50: Tag 2 | C50: 13:40 | D50: 1 | E50: =IF($F44>$H44,$I44,IF($F44<$H44,$E44,"Verlierer 69")) -> SC Pfettrach/Japan | F50: 1 | G50: : | H50: 0 | I50: =IF($F45>$H45,$I45,IF($F45<$H45,$E45,"Verlierer 70")) -> SV Sallach/Schweiz
A51: 74 | B51: Tag 2 | C51: 13:40 | D51: 3 | E51: =IF($F46>$H46,$I46,IF($F46<$H46,$E46,"Verlierer 71")) -> TSV Baierbach/England | F51: 1 | G51: : | H51: 3 | I51: =IF($F47>$H47,$I47,IF($F47<$H47,$E47,"Verlierer 72")) -> SSV 1983 Weng/Elfenbeinküste
A53: Platz 23 und 24 | J53: 5 min für 8-m eingeplant
...

Sheet Berechnung
A1: Spielergebnisse | G1: Tore | N1: Punkte | V1: Tabelle mit Ausgangsreihenfolge der Gruppen | AD1: Tabelle der Endergebnisse | AL1: Punkteverteilung Szenario 2 und 4 | AQ1: Szenario 3 | AX1: Platzierung in den Gruppen
AR2: Punkte | AS2: Tordifferenzen | AT2: Erzielte Tore | AU2: Punkte bei Gleichstand
AG3: Gesamtpunktzahl: 10000*Pkt.+100*TD+ET | AH3: Teams mit gleicher Punktzahl | AL3: direkter Gegner bei Punktegleichstand | AM3: Punkte gegen direkten Gegner | AN3: Punkte bei Gleichstand | AQ3: Team ohne Punktegleichstand | AR3: gegen Teams mit Punktegleichstand | AX3: Gesamtpunktzahl | AY3: Teams sortieren | BB3: Platzierung | BC3: Eindeutig oder durch Los entscheiden?
A4: =Text!B2 -> GRUPPE A
A5: =Vorrunde!E8 -> TSV 1946 Bayerbach/Österreich | B5: =IF(ISNUMBER(Vorrunde!H8),Vorrunde!H8,"") -> 0 | C5: =IF(ISNUMBER(Vorrunde!J8),Vorrunde!J8,"") -> 0 | D5: =Vorrunde!G8 -> TSV Langquaid/Australien | G5: =SUM(H6:K9) -> 14 | H5: =Text!A3 -> Österreich | I5: =Text!A4 -> Australien | J5: =Text!A5 -> Saudi-Arabien | K5: =Text!A6 -> Senegal | N5: =SUM(O6:R9) -> 17 | O5: =Text!A3 -> Österreich | P5: =Text!A4 -> Australien | Q5: =Text!A5 -> Saudi-Arabien | R5: =Text!A6 -> Senegal | W5: =Text!A$64 -> Sp. | X5: =Text!A$65 -> Pkte. | Y5: =Text!A$66 -> T | Z5: =Text!A$67 -> GT | AA5: =Text!A$68 -> Diff. | AQ5: =MATCH(1,AH6:AH9,0) -> 1
A6: =Vorrunde!E9 -> FC Bonbruck/Bodenkirchen/Saudi-Arabien | B6: =IF(ISNUMBER(Vorrunde!H9),Vorrunde!H9,"") -> 1 | C6: =IF(ISNUMBER(Vorrunde!J9),Vorrunde!J9,"") -> 0 | D6: =Vorrunde!G9 -> SG Weihmichl/Neuhausen/Senegal | G6: =Text!A3 -> Österreich | I6: =B5 -> 0 | J6: =B7 -> 2 | K6: =C9 -> 2 | N6: =Text!A3 -> Österreich | P6: =IF(AND(ISNUMBER(I6),ISNUMBER(H7)),IF(I6>H7,3,IF(I6=H7,1,0)),0) -> 1 | Q6: =IF(AND(ISNUMBER(J6),ISNUMBER(H8)),IF(J6>H8,3,IF(J6=H8,1,0)),0) -> 3 | R6: =IF(AND(ISNUMBER(K6),ISNUMBER(H9)),IF(K6>H9,3,IF(K6=H9,1,0)),0) -> 3 | U6: 1 | V6: =Text!B3 -> TSV 1946 Bayerbach/Österreich | W6: =IF(COUNT(H6:K6)=COUNT(H6:H9),COUNT(H6:H9),"") -> 3 | X6: =SUM(O6:R6) -> 7 | Y6: =SUM(H6:K6) -> 4 | Z6: =SUM(H6:H9) -> 0 | AA6: =Y6-Z6 -> 4 | AD6: =BB6 -> 1 | AG6: =X6*10000+AA6*100+Y6 -> 70404 | AH6: =COUNTIF(AG6:AG9,AG6) -> 1 | AI6: =IF(AH6=1,"x","") -> x | AL6: =IF(AI6="x",1,IF(AG7=AG6,2,IF(AG8=AG6,3,4))) -> 1 | AM6: =INDEX(O6:R6,1,AL6) -> 0 | AN6: =IF(OR(AH10=2,AH10=4),AM6/10,0) -> 0 | AR6: =X6-INDEX(O6:R6,1,AQ5) -> 7 | AS6: =AA6-(INDEX(H6:K6,1,AQ5)-INDEX(H6:H9,AQ5,1)) -> 4 | AT6: =Y6-INDEX(H6:K6,1,AQ5) -> 4 | AU6: =IF(OR(AH10<>3,AI6="x"),0,AR6/10+AS6/1000+AT6/100000) -> 0 | AX6: =AG6+AN6+AU6 -> 70404 | AY6: =IF(INDEX(AX6:AX9,U6)>=INDEX(AX6:AX9,U7),U6,U7) -> 1 | AZ6: =IF(INDEX(AX6:AX9,AY6)>=INDEX(AX6:AX9,AY8),AY6,AY8) -> 1 | BA6: =IF(INDEX(AX6:AX9,AZ6)>=INDEX(AX6:AX9,AZ9),AZ6,AZ9) -> 1 | BB6: =MATCH(U6,BA6:BA9,0) -> 1 | BC6: =COUNTIF(AX6:AX9,AX6) -> 1 | BD6: =IF(BC6=1,"x","") -> x | BE6: =(BD6="x")*BB6 -> 1
A7: =Vorrunde!E10 -> TSV 1946 Bayerbach/Österreich | B7: =IF(ISNUMBER(Vorrunde!H10),Vorrunde!H10,"") -> 2 | C7: =IF(ISNUMBER(Vorrunde!J10),Vorrunde!J10,"") -> 0 | D7: =Vorrunde!G10 -> FC Bonbruck/Bodenkirchen/Saudi-Arabien | G7: =Text!A4 -> Australien | H7: =C5 -> 0 | J7: =B10 -> 1 | K7: =C8 -> 5 | N7: =Text!A4 -> Australien | O7: =IF(AND(ISNUMBER(H7),ISNUMBER(I6)),IF(H7>I6,3,IF(H7=I6,1,0)),0) -> 1 | Q7: =IF(AND(ISNUMBER(J7),ISNUMBER(I8)),IF(J7>I8,3,IF(J7=I8,1,0)),0) -> 0 | R7: =IF(AND(ISNUMBER(K7),ISNUMBER(I9)),IF(K7>I9,3,IF(K7=I9,1,0)),0) -> 3 | U7: 2 | V7: =Text!B4 -> TSV Langquaid/Australien | W7: =IF(COUNT(H7:K7)=COUNT(I6:I9),COUNT(I6:I9),"") -> 3 | X7: =SUM(O7:R7) -> 4 | Y7: =SUM(H7:K7) -> 6 | Z7: =SUM(I6:I9) -> 3 | AA7: =Y7-Z7 -> 3 | AD7: =BB7 -> 3 | AG7: =X7*10000+AA7*100+Y7 -> 40306 | AH7: =COUNTIF(AG6:AG9,AG7) -> 1 | AI7: =IF(AH7=1,"x","") -> x | AL7: =IF(AI7="x",2,IF(AG8=AG7,3,IF(AG9=AG7,4,1))) -> 2 | AM7: =INDEX(O7:R7,1,AL7) -> 0 | AN7: =IF(OR(AH10=2,AH10=4),AM7/10,0) -> 0 | AR7: =X7-INDEX(O7:R7,1,AQ5) -> 3 | AS7: =AA7-(INDEX(H7:K7,1,AQ5)-INDEX(I6:I9,AQ5)) -> 3 | AT7: =Y7-INDEX(H7:K7,1,AQ5) -> 6 | AU7: =IF(OR(AH10<>3,AI7="x"),0,AR7/10+AS7/1000+AT7/100000) -> 0 | AX7: =AG7+AN7+AU7 -> 40306 | AY7: =IF(INDEX(AX6:AX9,U7)<=INDEX(AX6:AX9,U6),U7,U6) -> 2 | AZ7: =IF(INDEX(AX6:AX9,AY7)>=INDEX(AX6:AX9,AY9),AY7,AY9) -> 2 | BA7: =IF(INDEX(AX6:AX9,AZ7)>=INDEX(AX6:AX9,AZ8),AZ7,AZ8) -> 3 | BB7: =MATCH(U7,BA6:BA9,0) -> 3 | BC7: =COUNTIF(AX6:AX9,AX7) -> 1 | BD7: =IF(BC7=1,"x","") -> x | BE7: =(BD7="x")*BB7 -> 3
A8: =Vorrunde!E11 -> SG Weihmichl/Neuhausen/Senegal | B8: =IF(ISNUMBER(Vorrunde!H11),Vorrunde!H11,"") -> 1 | C8: =IF(ISNUMBER(Vorrunde!J11),Vorrunde!J11,"") -> 5 | D8: =Vorrunde!G11 -> TSV Langquaid/Australien | G8: =Text!A5 -> Saudi-Arabien | H8: =C7 -> 0 | I8: =C10 -> 2 | K8: =B6 -> 1 | N8: =Text!A5 -> Saudi-Arabien | O8: =IF(AND(ISNUMBER(H8),ISNUMBER(J6)),IF(H8>J6,3,IF(H8=J6,1,0)),0) -> 0 | P8: =IF(AND(ISNUMBER(I8),ISNUMBER(J7)),IF(I8>J7,3,IF(I8=J7,1,0)),0) -> 3 | R8: =IF(AND(ISNUMBER(K8),ISNUMBER(J9)),IF(K8>J9,3,IF(K8=J9,1,0)),0) -> 3 | U8: 3 | V8: =Text!B5 -> FC Bonbruck/Bodenkirchen/Saudi-Arabien | W8: =IF(COUNT(H8:K8)=COUNT(J6:J9),COUNT(J6:J9),"") -> 3 | X8: =SUM(O8:R8) -> 6 | Y8: =SUM(H8:K8) -> 3 | Z8: =SUM(J6:J9) -> 3 | AA8: =Y8-Z8 -> 0 | AD8: =BB8 -> 2 | AG8: =X8*10000+AA8*100+Y8 -> 60003 | AH8: =COUNTIF(AG6:AG9,AG8) -> 1 | AI8: =IF(AH8=1,"x","") -> x | AL8: =IF(AI8="x",3,IF(AG9=AG8,4,IF(AG7=AG8,2,1))) -> 3 | AM8: =INDEX(O8:R8,1,AL8) -> 0 | AN8: =IF(OR(AH10=2,AH10=4),AM8/10,0) -> 0 | AR8: =X8-INDEX(O8:R8,1,AQ5) -> 6 | AS8: =AA8-(INDEX(H8:K8,1,AQ5)-INDEX(J6:J9,AQ5)) -> 2 | AT8: =Y8-INDEX(H8:K8,1,AQ5) -> 3 | AU8: =IF(OR(AH10<>3,AI8="x"),0,AR8/10+AS8/1000+AT8/100000) -> 0 | AX8: =AG8+AN8+AU8 -> 60003 | AY8: =IF(INDEX(AX6:AX9,U8)>=INDEX(AX6:AX9,U9),U8,U9) -> 3 | AZ8: =IF(INDEX(AX6:AX9,AY8)<=INDEX(AX6:AX9,AY6),AY8,AY6) -> 3 | BA8: =IF(INDEX(AX6:AX9,AZ8)<=INDEX(AX6:AX9,AZ7),AZ8,AZ7) -> 2 | BB8: =MATCH(U8,BA6:BA9,0) -> 2 | BC8: =COUNTIF(AX6:AX9,AX8) -> 1 | BD8: =IF(BC8=1,"x","") -> x | BE8: =(BD8="x")*BB8 -> 2
A9: =Vorrunde!E12 -> SG Weihmichl/Neuhausen/Senegal | B9: =IF(ISNUMBER(Vorrunde!H12),Vorrunde!H12,"") -> 0 | C9: =IF(ISNUMBER(Vorrunde!J12),Vorrunde!J12,"") -> 2 | D9: =Vorrunde!G12 -> TSV 1946 Bayerbach/Österreich | G9: =Text!A6 -> Senegal | H9: =B9 -> 0 | I9: =B8 -> 1 | J9: =C6 -> 0 | N9: =Text!A6 -> Senegal | O9: =IF(AND(ISNUMBER(H9),ISNUMBER(K6)),IF(H9>K6,3,IF(H9=K6,1,0)),0) -> 0 | P9: =IF(AND(ISNUMBER(I9),ISNUMBER(K7)),IF(I9>K7,3,IF(I9=K7,1,0)),0) -> 0 | Q9: =IF(AND(ISNUMBER(J9),ISNUMBER(K8)),IF(J9>K8,3,IF(J9=K8,1,0)),0) -> 0 | U9: 4 | V9: =Text!B6 -> SG Weihmichl/Neuhausen/Senegal | W9: =IF(COUNT(H9:K9)=COUNT(K6:K9),COUNT(K6:K9),"") -> 3 | X9: =SUM(O9:R9) -> 0 | Y9: =SUM(H9:K9) -> 1 | Z9: =SUM(K6:K9) -> 8 | AA9: =Y9-Z9 -> -7 | AD9: =BB9 -> 4 | AG9: =X9*10000+AA9*100+Y9 -> -699 | AH9: =COUNTIF(AG6:AG9,AG9) -> 1 | AI9: =IF(AH9=1,"x","") -> x | AL9: =IF(AI9="x",4,IF(AG6=AG9,1,IF(AG7=AG9,2,3))) -> 4 | AM9: =INDEX(O9:R9,1,AL9) -> 0 | AN9: =IF(OR(AH10=2,AH10=4),AM9/10,0) -> 0 | AR9: =X9-INDEX(O9:R9,1,AQ5) -> 0 | AS9: =AA9-(INDEX(H9:K9,1,AQ5)-INDEX(K6:K9,AQ5)) -> -5 | AT9: =Y9-INDEX(H9:K9,1,AQ5) -> 1 | AU9: =IF(OR(AH10<>3,AI9="x"),0,AR9/10+AS9/1000+AT9/100000) -> 0 | AX9: =AG9+AN9+AU9 -> -699 | AY9: =IF(INDEX(AX6:AX9,U9)<=INDEX(AX6:AX9,U8),U9,U8) -> 4 | AZ9: =IF(INDEX(AX6:AX9,AY9)<=INDEX(AX6:AX9,AY7),AY9,AY7) -> 4 | BA9: =IF(INDEX(AX6:AX9,AZ9)<=INDEX(AX6:AX9,AZ6),AZ9,AZ6) -> 4 | BB9: =MATCH(U9,BA6:BA9,0) -> 4 | BC9: =COUNTIF(AX6:AX9,AX9) -> 1 | BD9: =IF(BC9=1,"x","") -> x | BE9: =(BD9="x")*BB9 -> 4
A10: =Vorrunde!E13 -> TSV Langquaid/Australien | B10: =IF(ISNUMBER(Vorrunde!H13),Vorrunde!H13,"") -> 1 | C10: =IF(ISNUMBER(Vorrunde!J13),Vorrunde!J13,"") -> 2 | D10: =Vorrunde!G13 -> FC Bonbruck/Bodenkirchen/Saudi-Arabien | V10: Alle Spiele vollständig? | W10: =SUM(W6:W9)=12 -> TRUE | AD10: =BF10 -> Eindeutige Platzierung | AG10: Gleichstand liegt vor | AH10: =MOD(MIN(AH6:AH9)*MAX(AH6:AH9),11) -> 1 | BD10: =COUNTIF(BD6:BD9,"x") -> 4 | BE10: =SUM(BE6:BE9) -> 10 | BF10: =IF(W10,IF(BD10>=3,Text!B$71,IF(AND(BD10=2,BE10=3),Text!B$72,Text!B$73)),"") -> Eindeutige Platzierung
A12: =Text!B10 -> GRUPPE B
A13: =Vorrunde!E16 -> TSV Kirchberg/Algerien | B13: =IF(ISNUMBER(Vorrunde!H16),Vorrunde!H16,"") -> 0 | C13: =IF(ISNUMBER(Vorrunde!J16),Vorrunde!J16,"") -> 3 | D13: =Vorrunde!G16 -> TSV Rottenburg/Schottland | G13: =SUM(H14:K17) -> 15 | H13: =Text!A11 -> Algerien | I13: =Text!A12 -> Schottland | J13: =Text!A13 -> Südafrika | K13: =Text!A14 -> Spanien | N13: =SUM(O14:R17) -> 16 | O13: =Text!A11 -> Algerien | P13: =Text!A12 -> Schottland | Q13: =Text!A13 -> Südafrika | R13: =Text!A14 -> Spanien | W13: =Text!A$64 -> Sp. | X13: =Text!A$65 -> Pkte. | Y13: =Text!A$66 -> T | Z13: =Text!A$67 -> GT | AA13: =Text!A$68 -> Diff. | AQ13: =MATCH(1,AH14:AH17,0) -> 1
A14: =Vorrunde!E17 -> SV Gündlkofen/Südafrika | B14: =IF(ISNUMBER(Vorrunde!H17),Vorrunde!H17,"") -> 0 | C14: =IF(ISNUMBER(Vorrunde!J17),Vorrunde!J17,"") -> 2 | D14: =Vorrunde!G17 -> TSV Pfaffenberg/Spanien | G14: =Text!A11 -> Algerien | I14: =B13 -> 0 | J14: =B15 -> 2 | K14: =C17 -> 1 | N14: =Text!A11 -> Algerien | P14: =IF(AND(ISNUMBER(I14),ISNUMBER(H15)),IF(I14>H15,3,IF(I14=H15,1,0)),0) -> 0 | Q14: =IF(AND(ISNUMBER(J14),ISNUMBER(H16)),IF(J14>H16,3,IF(J14=H16,1,0)),0) -> 1 | R14: =IF(AND(ISNUMBER(K14),ISNUMBER(H17)),IF(K14>H17,3,IF(K14=H17,1,0)),0) -> 0 | U14: 1 | V14: =Text!B11 -> TSV Kirchberg/Algerien | W14: =IF(COUNT(H14:K14)=COUNT(H14:H17),COUNT(H14:H17),"") -> 3 | X14: =SUM(O14:R14) -> 1 | Y14: =SUM(H14:K14) -> 3 | Z14: =SUM(H14:H17) -> 8 | AA14: =Y14-Z14 -> -5 | AD14: =BB14 -> 4 | AG14: =X14*10000+AA14*100+Y14 -> 9503 | AH14: =COUNTIF(AG14:AG17,AG14) -> 1 | AI14: =IF(AH14=1,"x","") -> x | AL14: =IF(AI14="x",1,IF(AG15=AG14,2,IF(AG16=AG14,3,4))) -> 1 | AM14: =INDEX(O14:R14,1,AL14) -> 0 | AN14: =IF(OR(AH18=2,AH18=4),AM14/10,0) -> 0 | AR14: =X14-INDEX(O14:R14,1,AQ13) -> 1 | AS14: =AA14-(INDEX(H14:K14,1,AQ13)-INDEX(H14:H17,AQ13,1)) -> -5 | AT14: =Y14-INDEX(H14:K14,1,AQ13) -> 3 | AU14: =IF(OR(AH18<>3,AI14="x"),0,AR14/10+AS14/1000+AT14/100000) -> 0 | AX14: =AG14+AN14+AU14 -> 9503 | AY14: =IF(INDEX(AX14:AX17,U14)>=INDEX(AX14:AX17,U15),U14,U15) -> 2 | AZ14: =IF(INDEX(AX14:AX17,AY14)>=INDEX(AX14:AX17,AY16),AY14,AY16) -> 2 | BA14: =IF(INDEX(AX14:AX17,AZ14)>=INDEX(AX14:AX17,AZ17),AZ14,AZ17) -> 2 | BB14: =MATCH(U14,BA14:BA17,0) -> 4 | BC14: =COUNTIF(AX14:AX17,AX14) -> 1 | BD14: =IF(BC14=1,"x","") -> x | BE14: =(BD14="x")*BB14 -> 4
A15: =Vorrunde!E18 -> TSV Kirchberg/Algerien | B15: =IF(ISNUMBER(Vorrunde!H18),Vorrunde!H18,"") -> 2 | C15: =IF(ISNUMBER(Vorrunde!J18),Vorrunde!J18,"") -> 2 | D15: =Vorrunde!G18 -> SV Gündlkofen/Südafrika | G15: =Text!A12 -> Schottland | H15: =C13 -> 3 | J15: =B18 -> 0 | K15: =C16 -> 2 | N15: =Text!A12 -> Schottland | O15: =IF(AND(ISNUMBER(H15),ISNUMBER(I14)),IF(H15>I14,3,IF(H15=I14,1,0)),0) -> 3 | Q15: =IF(AND(ISNUMBER(J15),ISNUMBER(I16)),IF(J15>I16,3,IF(J15=I16,1,0)),0) -> 1 | R15: =IF(AND(ISNUMBER(K15),ISNUMBER(I17)),IF(K15>I17,3,IF(K15=I17,1,0)),0) -> 3 | U15: 2 | V15: =Text!B12 -> TSV Rottenburg/Schottland | W15: =IF(COUNT(H15:K15)=COUNT(I14:I17),COUNT(I14:I17),"") -> 3 | X15: =SUM(O15:R15) -> 7 | Y15: =SUM(H15:K15) -> 5 | Z15: =SUM(I14:I17) -> 0 | AA15: =Y15-Z15 -> 5 | AD15: =BB15 -> 1 | AG15: =X15*10000+AA15*100+Y15 -> 70505 | AH15: =COUNTIF(AG14:AG17,AG15) -> 1 | AI15: =IF(AH15=1,"x","") -> x | AL15: =IF(AI15="x",2,IF(AG16=AG15,3,IF(AG17=AG15,4,1))) -> 2 | AM15: =INDEX(O15:R15,1,AL15) -> 0 | AN15: =IF(OR(AH18=2,AH18=4),AM15/10,0) -> 0 | AR15: =X15-INDEX(O15:R15,1,AQ13) -> 4 | AS15: =AA15-(INDEX(H15:K15,1,AQ13)-INDEX(I14:I17,AQ13)) -> 2 | AT15: =Y15-INDEX(H15:K15,1,AQ13) -> 2 | AU15: =IF(OR(AH18<>3,AI15="x"),0,AR15/10+AS15/1000+AT15/100000) -> 0 | AX15: =AG15+AN15+AU15 -> 70505 | AY15: =IF(INDEX(AX14:AX17,U15)<=INDEX(AX14:AX17,U14),U15,U14) -> 1 | AZ15: =IF(INDEX(AX14:AX17,AY15)>=INDEX(AX14:AX17,AY17),AY15,AY17) -> 3 | BA15: =IF(INDEX(AX14:AX17,AZ15)>=INDEX(AX14:AX17,AZ16),AZ15,AZ16) -> 4 | BB15: =MATCH(U15,BA14:BA17,0) -> 1 | BC15: =COUNTIF(AX14:AX17,AX15) -> 1 | BD15: =IF(BC15=1,"x","") -> x | BE15: =(BD15="x")*BB15 -> 1
A16: =Vorrunde!E19 -> TSV Pfaffenberg/Spanien | B16: =IF(ISNUMBER(Vorrunde!H19),Vorrunde!H19,"") -> 0 | C16: =IF(ISNUMBER(Vorrunde!J19),Vorrunde!J19,"") -> 2 | D16: =Vorrunde!G19 -> TSV Rottenburg/Schottland | G16: =Text!A13 -> Südafrika | H16: =C15 -> 2 | I16: =C18 -> 0 | K16: =B14 -> 0 | N16: =Text!A13 -> Südafrika | O16: =IF(AND(ISNUMBER(H16),ISNUMBER(J14)),IF(H16>J14,3,IF(H16=J14,1,0)),0) -> 1 | P16: =IF(AND(ISNUMBER(I16),ISNUMBER(J15)),IF(I16>J15,3,IF(I16=J15,1,0)),0) -> 1 | R16: =IF(AND(ISNUMBER(K16),ISNUMBER(J17)),IF(K16>J17,3,IF(K16=J17,1,0)),0) -> 0 | U16: 3 | V16: =Text!B13 -> SV Gündlkofen/Südafrika | W16: =IF(COUNT(H16:K16)=COUNT(J14:J17),COUNT(J14:J17),"") -> 3 | X16: =SUM(O16:R16) -> 2 | Y16: =SUM(H16:K16) -> 2 | Z16: =SUM(J14:J17) -> 4 | AA16: =Y16-Z16 -> -2 | AD16: =BB16 -> 3 | AG16: =X16*10000+AA16*100+Y16 -> 19802 | AH16: =COUNTIF(AG14:AG17,AG16) -> 1 | AI16: =IF(AH16=1,"x","") -> x | AL16: =IF(AI16="x",3,IF(AG17=AG16,4,IF(AG15=AG16,2,1))) -> 3 | AM16: =INDEX(O16:R16,1,AL16) -> 0 | AN16: =IF(OR(AH18=2,AH18=4),AM16/10,0) -> 0 | AR16: =X16-INDEX(O16:R16,1,AQ13) -> 1 | AS16: =AA16-(INDEX(H16:K16,1,AQ13)-INDEX(J14:J17,AQ13)) -> -2 | AT16: =Y16-INDEX(H16:K16,1,AQ13) -> 0 | AU16: =IF(OR(AH18<>3,AI16="x"),0,AR16/10+AS16/1000+AT16/100000) -> 0 | AX16: =AG16+AN16+AU16 -> 19802 | AY16: =IF(INDEX(AX14:AX17,U16)>=INDEX(AX14:AX17,U17),U16,U17) -> 4 | AZ16: =IF(INDEX(AX14:AX17,AY16)<=INDEX(AX14:AX17,AY14),AY16,AY14) -> 4 | BA16: =IF(INDEX(AX14:AX17,AZ16)<=INDEX(AX14:AX17,AZ15),AZ16,AZ15) -> 3 | BB16: =MATCH(U16,BA14:BA17,0) -> 3 | BC16: =COUNTIF(AX14:AX17,AX16) -> 1 | BD16: =IF(BC16=1,"x","") -> x | BE16: =(BD16="x")*BB16 -> 3
A17: =Vorrunde!E20 -> TSV Pfaffenberg/Spanien | B17: =IF(ISNUMBER(Vorrunde!H20),Vorrunde!H20,"") -> 3 | C17: =IF(ISNUMBER(Vorrunde!J20),Vorrunde!J20,"") -> 1 | D17: =Vorrunde!G20 -> TSV Kirchberg/Algerien | G17: =Text!A14 -> Spanien | H17: =B17 -> 3 | I17: =B16 -> 0 | J17: =C14 -> 2 | N17: =Text!A14 -> Spanien | O17: =IF(AND(ISNUMBER(H17),ISNUMBER(K14)),IF(H17>K14,3,IF(H17=K14,1,0)),0) -> 3 | P17: =IF(AND(ISNUMBER(I17),ISNUMBER(K15)),IF(I17>K15,3,IF(I17=K15,1,0)),0) -> 0 | Q17: =IF(AND(ISNUMBER(J17),ISNUMBER(K16)),IF(J17>K16,3,IF(J17=K16,1,0)),0) -> 3 | U17: 4 | V17: =Text!B14 -> TSV Pfaffenberg/Spanien | W17: =IF(COUNT(H17:K17)=COUNT(K14:K17),COUNT(K14:K17),"") -> 3 | X17: =SUM(O17:R17) -> 6 | Y17: =SUM(H17:K17) -> 5 | Z17: =SUM(K14:K17) -> 3 | AA17: =Y17-Z17 -> 2 | AD17: =BB17 -> 2 | AG17: =X17*10000+AA17*100+Y17 -> 60205 | AH17: =COUNTIF(AG14:AG17,AG17) -> 1 | AI17: =IF(AH17=1,"x","") -> x | AL17: =IF(AI17="x",4,IF(AG14=AG17,1,IF(AG15=AG17,2,3))) -> 4 | AM17: =INDEX(O17:R17,1,AL17) -> 0 | AN17: =IF(OR(AH18=2,AH18=4),AM17/10,0) -> 0 | AR17: =X17-INDEX(O17:R17,1,AQ13) -> 3 | AS17: =AA17-(INDEX(H17:K17,1,AQ13)-INDEX(K14:K17,AQ13)) -> 0 | AT17: =Y17-INDEX(H17:K17,1,AQ13) -> 2 | AU17: =IF(OR(AH18<>3,AI17="x"),0,AR17/10+AS17/1000+AT17/100000) -> 0 | AX17: =AG17+AN17+AU17 -> 60205 | AY17: =IF(INDEX(AX14:AX17,U17)<=INDEX(AX14:AX17,U16),U17,U16) -> 3 | AZ17: =IF(INDEX(AX14:AX17,AY17)<=INDEX(AX14:AX17,AY15),AY17,AY15) -> 1 | BA17: =IF(INDEX(AX14:AX17,AZ17)<=INDEX(AX14:AX17,AZ14),AZ17,AZ14) -> 1 | BB17: =MATCH(U17,BA14:BA17,0) -> 2 | BC17: =COUNTIF(AX14:AX17,AX17) -> 1 | BD17: =IF(BC17=1,"x","") -> x | BE17: =(BD17="x")*BB17 -> 2
A18: =Vorrunde!E21 -> TSV Rottenburg/Schottland | B18: =IF(ISNUMBER(Vorrunde!H21),Vorrunde!H21,"") -> 0 | C18: =IF(ISNUMBER(Vorrunde!J21),Vorrunde!J21,"") -> 0 | D18: =Vorrunde!G21 -> SV Gündlkofen/Südafrika | V18: Alle Spiele vollständig? | W18: =SUM(W14:W17)=12 -> TRUE | AD18: =BF18 -> Eindeutige Platzierung | AG18: Gleichstand liegt vor | AH18: =MOD(MIN(AH14:AH17)*MAX(AH14:AH17),11) -> 1 | BD18: =COUNTIF(BD14:BD17,"x") -> 4 | BE18: =SUM(BE14:BE17) -> 10 | BF18: =IF(W18,IF(BD18>=3,Text!B$71,IF(AND(BD18=2,BE18=3),Text!B$72,Text!B$73)),"") -> Eindeutige Platzierung
A20: =Text!B18 -> GRUPPE C
A21: =Vorrunde!E24 -> SC Buch am Erlbach/Kroatien | B21: =IF(ISNUMBER(Vorrunde!H24),Vorrunde!H24,"") -> 6 | C21: =IF(ISNUMBER(Vorrunde!J24),Vorrunde!J24,"") -> 0 | D21: =Vorrunde!G24 -> TSV Vilslern/Norwegen | G21: =SUM(H22:K25) -> 17 | H21: =Text!A19 -> Kroatien | I21: =Text!A20 -> Norwegen | J21: =Text!A21 -> Portugal | K21: =Text!A22 -> Japan | N21: =SUM(O22:R25) -> 17 | O21: =Text!A19 -> Kroatien | P21: =Text!A20 -> Norwegen | Q21: =Text!A21 -> Portugal | R21: =Text!A22 -> Japan | W21: =Text!A$64 -> Sp. | X21: =Text!A$65 -> Pkte. | Y21: =Text!A$66 -> T | Z21: =Text!A$67 -> GT | AA21: =Text!A$68 -> Diff. | AQ21: =MATCH(1,AH22:AH25,0) -> 1
A22: =Vorrunde!E25 -> SG Aham/Gerzen/Portugal | B22: =IF(ISNUMBER(Vorrunde!H25),Vorrunde!H25,"") -> 4 | C22: =IF(ISNUMBER(Vorrunde!J25),Vorrunde!J25,"") -> 0 | D22: =Vorrunde!G25 -> SC Pfettrach/Japan | G22: =Text!A19 -> Kroatien | I22: =B21 -> 6 | J22: =B23 -> 1 | K22: =C25 -> 2 | N22: =Text!A19 -> Kroatien | P22: =IF(AND(ISNUMBER(I22),ISNUMBER(H23)),IF(I22>H23,3,IF(I22=H23,1,0)),0) -> 3 | Q22: =IF(AND(ISNUMBER(J22),ISNUMBER(H24)),IF(J22>H24,3,IF(J22=H24,1,0)),0) -> 3 | R22: =IF(AND(ISNUMBER(K22),ISNUMBER(H25)),IF(K22>H25,3,IF(K22=H25,1,0)),0) -> 3 | U22: 1 | V22: =Text!B19 -> SC Buch am Erlbach/Kroatien | W22: =IF(COUNT(H22:K22)=COUNT(H22:H25),COUNT(H22:H25),"") -> 3 | X22: =SUM(O22:R22) -> 9 | Y22: =SUM(H22:K22) -> 9 | Z22: =SUM(H22:H25) -> 0 | AA22: =Y22-Z22 -> 9 | AD22: =BB22 -> 1 | AG22: =X22*10000+AA22*100+Y22 -> 90909 | AH22: =COUNTIF(AG22:AG25,AG22) -> 1 | AI22: =IF(AH22=1,"x","") -> x | AL22: =IF(AI22="x",1,IF(AG23=AG22,2,IF(AG24=AG22,3,4))) -> 1 | AM22: =INDEX(O22:R22,1,AL22) -> 0 | AN22: =IF(OR(AH26=2,AH26=4),AM22/10,0) -> 0 | AR22: =X22-INDEX(O22:R22,1,AQ21) -> 9 | AS22: =AA22-(INDEX(H22:K22,1,AQ21)-INDEX(H22:H25,AQ21,1)) -> 9 | AT22: =Y22-INDEX(H22:K22,1,AQ21) -> 9 | AU22: =IF(OR(AH26<>3,AI22="x"),0,AR22/10+AS22/1000+AT22/100000) -> 0 | AX22: =AG22+AN22+AU22 -> 90909 | AY22: =IF(INDEX(AX22:AX25,U22)>=INDEX(AX22:AX25,U23),U22,U23) -> 1 | AZ22: =IF(INDEX(AX22:AX25,AY22)>=INDEX(AX22:AX25,AY24),AY22,AY24) -> 1 | BA22: =IF(INDEX(AX22:AX25,AZ22)>=INDEX(AX22:AX25,AZ25),AZ22,AZ25) -> 1 | BB22: =MATCH(U22,BA22:BA25,0) -> 1 | BC22: =COUNTIF(AX22:AX25,AX22) -> 1 | BD22: =IF(BC22=1,"x","") -> x | BE22: =(BD22="x")*BB22 -> 1
A23: =Vorrunde!E26 -> SC Buch am Erlbach/Kroatien | B23: =IF(ISNUMBER(Vorrunde!H26),Vorrunde!H26,"") -> 1 | C23: =IF(ISNUMBER(Vorrunde!J26),Vorrunde!J26,"") -> 0 | D23: =Vorrunde!G26 -> SG Aham/Gerzen/Portugal | G23: =Text!A20 -> Norwegen | H23: =C21 -> 0 | J23: =B26 -> 0 | K23: =C24 -> 1 | N23: =Text!A20 -> Norwegen | O23: =IF(AND(ISNUMBER(H23),ISNUMBER(I22)),IF(H23>I22,3,IF(H23=I22,1,0)),0) -> 0 | Q23: =IF(AND(ISNUMBER(J23),ISNUMBER(I24)),IF(J23>I24,3,IF(J23=I24,1,0)),0) -> 0 | R23: =IF(AND(ISNUMBER(K23),ISNUMBER(I25)),IF(K23>I25,3,IF(K23=I25,1,0)),0) -> 1 | U23: 2 | V23: =Text!B20 -> TSV Vilslern/Norwegen | W23: =IF(COUNT(H23:K23)=COUNT(I22:I25),COUNT(I22:I25),"") -> 3 | X23: =SUM(O23:R23) -> 1 | Y23: =SUM(H23:K23) -> 1 | Z23: =SUM(I22:I25) -> 9 | AA23: =Y23-Z23 -> -8 | AD23: =BB23 -> 4 | AG23: =X23*10000+AA23*100+Y23 -> 9201 | AH23: =COUNTIF(AG22:AG25,AG23) -> 1 | AI23: =IF(AH23=1,"x","") -> x | AL23: =IF(AI23="x",2,IF(AG24=AG23,3,IF(AG25=AG23,4,1))) -> 2 | AM23: =INDEX(O23:R23,1,AL23) -> 0 | AN23: =IF(OR(AH26=2,AH26=4),AM23/10,0) -> 0 | AR23: =X23-INDEX(O23:R23,1,AQ21) -> 1 | AS23: =AA23-(INDEX(H23:K23,1,AQ21)-INDEX(I22:I25,AQ21)) -> -2 | AT23: =Y23-INDEX(H23:K23,1,AQ21) -> 1 | AU23: =IF(OR(AH26<>3,AI23="x"),0,AR23/10+AS23/1000+AT23/100000) -> 0 | AX23: =AG23+AN23+AU23 -> 9201 | AY23: =IF(INDEX(AX22:AX25,U23)<=INDEX(AX22:AX25,U22),U23,U22) -> 2 | AZ23: =IF(INDEX(AX22:AX25,AY23)>=INDEX(AX22:AX25,AY25),AY23,AY25) -> 4 | BA23: =IF(INDEX(AX22:AX25,AZ23)>=INDEX(AX22:AX25,AZ24),AZ23,AZ24) -> 3 | BB23: =MATCH(U23,BA22:BA25,0) -> 4 | BC23: =COUNTIF(AX22:AX25,AX23) -> 1 | BD23: =IF(BC23=1,"x","") -> x | BE23: =(BD23="x")*BB23 -> 4
A24: =Vorrunde!E27 -> SC Pfettrach/Japan | B24: =IF(ISNUMBER(Vorrunde!H27),Vorrunde!H27,"") -> 1 | C24: =IF(ISNUMBER(Vorrunde!J27),Vorrunde!J27,"") -> 1 | D24: =Vorrunde!G27 -> TSV Vilslern/Norwegen | G24: =Text!A21 -> Portugal | H24: =C23 -> 0 | I24: =C26 -> 2 | K24: =B22 -> 4 | N24: =Text!A21 -> Portugal | O24: =IF(AND(ISNUMBER(H24),ISNUMBER(J22)),IF(H24>J22,3,IF(H24=J22,1,0)),0) -> 0 | P24: =IF(AND(ISNUMBER(I24),ISNUMBER(J23)),IF(I24>J23,3,IF(I24=J23,1,0)),0) -> 3 | R24: =IF(AND(ISNUMBER(K24),ISNUMBER(J25)),IF(K24>J25,3,IF(K24=J25,1,0)),0) -> 3 | U24: 3 | V24: =Text!B21 -> SG Aham/Gerzen/Portugal | W24: =IF(COUNT(H24:K24)=COUNT(J22:J25),COUNT(J22:J25),"") -> 3 | X24: =SUM(O24:R24) -> 6 | Y24: =SUM(H24:K24) -> 6 | Z24: =SUM(J22:J25) -> 1 | AA24: =Y24-Z24 -> 5 | AD24: =BB24 -> 2 | AG24: =X24*10000+AA24*100+Y24 -> 60506 | AH24: =COUNTIF(AG22:AG25,AG24) -> 1 | AI24: =IF(AH24=1,"x","") -> x | AL24: =IF(AI24="x",3,IF(AG25=AG24,4,IF(AG23=AG24,2,1))) -> 3 | AM24: =INDEX(O24:R24,1,AL24) -> 0 | AN24: =IF(OR(AH26=2,AH26=4),AM24/10,0) -> 0 | AR24: =X24-INDEX(O24:R24,1,AQ21) -> 6 | AS24: =AA24-(INDEX(H24:K24,1,AQ21)-INDEX(J22:J25,AQ21)) -> 6 | AT24: =Y24-INDEX(H24:K24,1,AQ21) -> 6 | AU24: =IF(OR(AH26<>3,AI24="x"),0,AR24/10+AS24/1000+AT24/100000) -> 0 | AX24: =AG24+AN24+AU24 -> 60506 | AY24: =IF(INDEX(AX22:AX25,U24)>=INDEX(AX22:AX25,U25),U24,U25) -> 3 | AZ24: =IF(INDEX(AX22:AX25,AY24)<=INDEX(AX22:AX25,AY22),AY24,AY22) -> 3 | BA24: =IF(INDEX(AX22:AX25,AZ24)<=INDEX(AX22:AX25,AZ23),AZ24,AZ23) -> 4 | BB24: =MATCH(U24,BA22:BA25,0) -> 2 | BC24: =COUNTIF(AX22:AX25,AX24) -> 1 | BD24: =IF(BC24=1,"x","") -> x | BE24: =(BD24="x")*BB24 -> 2
A25: =Vorrunde!E28 -> SC Pfettrach/Japan | B25: =IF(ISNUMBER(Vorrunde!H28),Vorrunde!H28,"") -> 0 | C25: =IF(ISNUMBER(Vorrunde!J28),Vorrunde!J28,"") -> 2 | D25: =Vorrunde!G28 -> SC Buch am Erlbach/Kroatien | G25: =Text!A22 -> Japan | H25: =B25 -> 0 | I25: =B24 -> 1 | J25: =C22 -> 0 | N25: =Text!A22 -> Japan | O25: =IF(AND(ISNUMBER(H25),ISNUMBER(K22)),IF(H25>K22,3,IF(H25=K22,1,0)),0) -> 0 | P25: =IF(AND(ISNUMBER(I25),ISNUMBER(K23)),IF(I25>K23,3,IF(I25=K23,1,0)),0) -> 1 | Q25: =IF(AND(ISNUMBER(J25),ISNUMBER(K24)),IF(J25>K24,3,IF(J25=K24,1,0)),0) -> 0 | U25: 4 | V25: =Text!B22 -> SC Pfettrach/Japan | W25: =IF(COUNT(H25:K25)=COUNT(K22:K25),COUNT(K22:K25),"") -> 3 | X25: =SUM(O25:R25) -> 1 | Y25: =SUM(H25:K25) -> 1 | Z25: =SUM(K22:K25) -> 7 | AA25: =Y25-Z25 -> -6 | AD25: =BB25 -> 3 | AG25: =X25*10000+AA25*100+Y25 -> 9401 | AH25: =COUNTIF(AG22:AG25,AG25) -> 1 | AI25: =IF(AH25=1,"x","") -> x | AL25: =IF(AI25="x",4,IF(AG22=AG25,1,IF(AG23=AG25,2,3))) -> 4 | AM25: =INDEX(O25:R25,1,AL25) -> 0 | AN25: =IF(OR(AH26=2,AH26=4),AM25/10,0) -> 0 | AR25: =X25-INDEX(O25:R25,1,AQ21) -> 1 | AS25: =AA25-(INDEX(H25:K25,1,AQ21)-INDEX(K22:K25,AQ21)) -> -4 | AT25: =Y25-INDEX(H25:K25,1,AQ21) -> 1 | AU25: =IF(OR(AH26<>3,AI25="x"),0,AR25/10+AS25/1000+AT25/100000) -> 0 | AX25: =AG25+AN25+AU25 -> 9401 | AY25: =IF(INDEX(AX22:AX25,U25)<=INDEX(AX22:AX25,U24),U25,U24) -> 4 | AZ25: =IF(INDEX(AX22:AX25,AY25)<=INDEX(AX22:AX25,AY23),AY25,AY23) -> 2 | BA25: =IF(INDEX(AX22:AX25,AZ25)<=INDEX(AX22:AX25,AZ22),AZ25,AZ22) -> 2 | BB25: =MATCH(U25,BA22:BA25,0) -> 3 | BC25: =COUNTIF(AX22:AX25,AX25) -> 1 | BD25: =IF(BC25=1,"x","") -> x | BE25: =(BD25="x")*BB25 -> 3
A26: =Vorrunde!E29 -> TSV Vilslern/Norwegen | B26: =IF(ISNUMBER(Vorrunde!H29),Vorrunde!H29,"") -> 0 | C26: =IF(ISNUMBER(Vorrunde!J29),Vorrunde!J29,"") -> 2 | D26: =Vorrunde!G29 -> SG Aham/Gerzen/Portugal | V26: Alle Spiele vollständig? | W26: =SUM(W22:W25)=12 -> TRUE | AD26: =BF26 -> Eindeutige Platzierung | AG26: Gleichstand liegt vor | AH26: =MOD(MIN(AH22:AH25)*MAX(AH22:AH25),11) -> 1 | BD26: =COUNTIF(BD22:BD25,"x") -> 4 | BE26: =SUM(BE22:BE25) -> 10 | BF26: =IF(W26,IF(BD26>=3,Text!B$71,IF(AND(BD26=2,BE26=3),Text!B$72,Text!B$73)),"") -> Eindeutige Platzierung
A28: =Text!B26 -> GRUPPE D
A29: =Vorrunde!E32 -> TSV Rohr/Südkorea | B29: =IF(ISNUMBER(Vorrunde!H32),Vorrunde!H32,"") -> 1 | C29: =IF(ISNUMBER(Vorrunde!J32),Vorrunde!J32,"") -> 4 | D29: =Vorrunde!G32 -> TSV Vilsbiburg/Mexiko | G29: =SUM(H30:K33) -> 16 | H29: =Text!A27 -> Südkorea | I29: =Text!A28 -> Mexiko | J29: =Text!A29 -> Elfenbeinküste | K29: =Text!A30 -> Niederlande | N29: =SUM(O30:R33) -> 18 | O29: =Text!A27 -> Südkorea | P29: =Text!A28 -> Mexiko | Q29: =Text!A29 -> Elfenbeinküste | R29: =Text!A30 -> Niederlande | W29: =Text!A$64 -> Sp. | X29: =Text!A$65 -> Pkte. | Y29: =Text!A$66 -> T | Z29: =Text!A$67 -> GT | AA29: =Text!A$68 -> Diff. | AQ29: =MATCH(1,AH30:AH33,0) -> 1
A30: =Vorrunde!E33 -> SSV 1983 Weng/Elfenbeinküste | B30: =IF(ISNUMBER(Vorrunde!H33),Vorrunde!H33,"") -> 0 | C30: =IF(ISNUMBER(Vorrunde!J33),Vorrunde!J33,"") -> 1 | D30: =Vorrunde!G33 -> SG Mallersdorf/Grafentraubach/Niederlande | G30: =Text!A27 -> Südkorea | I30: =B29 -> 1 | J30: =B31 -> 0 | K30: =C33 -> 0 | N30: =Text!A27 -> Südkorea | P30: =IF(AND(ISNUMBER(I30),ISNUMBER(H31)),IF(I30>H31,3,IF(I30=H31,1,0)),0) -> 0 | Q30: =IF(AND(ISNUMBER(J30),ISNUMBER(H32)),IF(J30>H32,3,IF(J30=H32,1,0)),0) -> 0 | R30: =IF(AND(ISNUMBER(K30),ISNUMBER(H33)),IF(K30>H33,3,IF(K30=H33,1,0)),0) -> 0 | U30: 1 | V30: =Text!B27 -> TSV Rohr/Südkorea | W30: =IF(COUNT(H30:K30)=COUNT(H30:H33),COUNT(H30:H33),"") -> 3 | X30: =SUM(O30:R30) -> 0 | Y30: =SUM(H30:K30) -> 1 | Z30: =SUM(H30:H33) -> 7 | AA30: =Y30-Z30 -> -6 | AD30: =BB30 -> 4 | AG30: =X30*10000+AA30*100+Y30 -> -599 | AH30: =COUNTIF(AG30:AG33,AG30) -> 1 | AI30: =IF(AH30=1,"x","") -> x | AL30: =IF(AI30="x",1,IF(AG31=AG30,2,IF(AG32=AG30,3,4))) -> 1 | AM30: =INDEX(O30:R30,1,AL30) -> 0 | AN30: =IF(OR(AH34=2,AH34=4),AM30/10,0) -> 0 | AR30: =X30-INDEX(O30:R30,1,AQ29) -> 0 | AS30: =AA30-(INDEX(H30:K30,1,AQ29)-INDEX(H30:H33,AQ29,1)) -> -6 | AT30: =Y30-INDEX(H30:K30,1,AQ29) -> 1 | AU30: =IF(OR(AH34<>3,AI30="x"),0,AR30/10+AS30/1000+AT30/100000) -> 0 | AX30: =AG30+AN30+AU30 -> -599 | AY30: =IF(INDEX(AX30:AX33,U30)>=INDEX(AX30:AX33,U31),U30,U31) -> 2 | AZ30: =IF(INDEX(AX30:AX33,AY30)>=INDEX(AX30:AX33,AY32),AY30,AY32) -> 4 | BA30: =IF(INDEX(AX30:AX33,AZ30)>=INDEX(AX30:AX33,AZ33),AZ30,AZ33) -> 4 | BB30: =MATCH(U30,BA30:BA33,0) -> 4 | BC30: =COUNTIF(AX30:AX33,AX30) -> 1 | BD30: =IF(BC30=1,"x","") -> x | BE30: =(BD30="x")*BB30 -> 4
